BEGIN:VCALENDAR
VERSION:2.0
PRODID:-//wp-events-plugin.com//7.2.3.1//EN
BEGIN:VEVENT
UID:9163@visitlebanonky.com
DTSTART;TZID=America/Kentucky/Louisville:20260529T190000
DTEND;TZID=America/Kentucky/Louisville:20260529T203000
DTSTAMP:20260401T210337Z
URL:https://visitlebanonky.com/events/156-central-kentuckys-caboose-docume
 ntary/
SUMMARY:156 Central Kentucky's Caboose Documentary
DESCRIPTION:47 minute Documentary film about 156 - Central Kentucky's Caboo
 se made in Lebanon\, Ky. by the Lebanon Branch Preservation Trust. Event i
 s FREE to the public - come learn about the history and importance of trai
 ns running through Lebanon. School Grounds Coffee will be open for concess
 ions and film makers will be here for information and talk back with inter
 ested historians. You can find this event on Facebook HERE
ATTACH;FMTTYPE=image/jpeg:https://visitlebanonky.com/wp-content/uploads/20
 26/04/CENTRAL-KY-CABOOSE.jpg
CATEGORIES:Official
LOCATION:Kentucky Classic ARTS at Centre Square\, 237 North Spalding Avenue
 \, Lebanon\, KY\, 40033\, United States
X-APPLE-STRUCTURED-LOCATION;VALUE=URI;X-ADDRESS=237 North Spalding Avenue\,
  Lebanon\, KY\, 40033\, United States;X-APPLE-RADIUS=100;X-TITLE=Kentucky 
 Classic ARTS at Centre Square:geo:0,0
END:VEVENT
BEGIN:VTIMEZONE
TZID:America/Kentucky/Louisville
X-LIC-LOCATION:America/Kentucky/Louisville
BEGIN:DAYLIGHT
DTSTART:20260308T030000
TZOFFSETFROM:-0500
TZOFFSETTO:-0400
TZNAME:EDT
END:DAYLIGHT
END:VTIMEZONE
END:VCALENDAR