BEGIN:VCALENDAR
VERSION:2.0
PRODID:-//wp-events-plugin.com//7.2.3.1//EN
BEGIN:VEVENT
UID:6332@visitlebanonky.com
DTSTART;TZID=America/Kentucky/Louisville:20241129T170000
DTEND;TZID=America/Kentucky/Louisville:20241129T210000
DTSTAMP:20241023T015100Z
URL:https://visitlebanonky.com/events/2024-dickens-christmas-in-downtown-l
 ebanon-parade-ice-skating-chili-cookoff-carriage-train-rides-santa-and-so-
 much-more/
SUMMARY:2024 Dickens Christmas in Downtown Lebanon - Parade - Ice Skating -
  Chili Cookoff - Carriage & Train Rides - Santa and so much more
DESCRIPTION:2024 DICKENS CHRISTMAS SET FOR FRIDAY\, NOV. 29 from 5 till 9 p
 .m.\n\nIN LEBANON\, THE HEART OF KENTUCKY\n\nIt's the 2024 Dickens Christm
 as celebration\, set for Friday\, Nov. 29 in downtown Lebanon\, the Heart 
 of Kentucky. There'll be ice skating\, a huge parade\, horse-drawn carriag
 e rides\, vendors\, events\, a chili cookoff\, free hot dogs\, Santa. \n\n
 Also\, many retail stores will be doing things to join in and help expand 
 the event. Keep up with posts and details here: https://visitlebanonky.com
 /events-calendar/\n\n#holidaykickoff #dickenschristmas2023 #kentuckytouris
 m #kentuckybourbontrail\n\nAlmost all events are free and will be held in 
 downtown Lebanon\, which will be blocked to traffic for public safety.\n\n
 Ice skating in the Venue 68 parking lot.\nParade with prize money for best
  floats (starts at 7 p.m.)\nSanta visits at FNB Annex after the parade.\nT
 ree lighting (first event).\nTrain rides for kids.\nCarriage rides.\nLeade
 rship Lebanon craft fair and silent auction along with vendors in Jesse In
 surance lot. \nThe Lebanon Lions Club will be giving away free hot dogs—
 as long as they last.\nThe Marion County Chamber of Commerce Chili Cook-Of
 f begins at 5:30 p.m.\n \n
ATTACH;FMTTYPE=image/jpeg:https://visitlebanonky.com/wp-content/uploads/20
 23/10/2023-Dickens-Artwork-e1729647962103.jpg
CATEGORIES:Official
LOCATION:Downtown Lebanon\, Main Street\, Lebanon\, KY/ Marion\, 40033\, Ma
 rion County\, United States
X-APPLE-STRUCTURED-LOCATION;VALUE=URI;X-ADDRESS=Main Street\, Lebanon\, KY/
  Marion\, 40033\, Marion County\, United States;X-APPLE-RADIUS=100;X-TITLE
 =Downtown Lebanon:geo:0,0
END:VEVENT
BEGIN:VTIMEZONE
TZID:America/Kentucky/Louisville
X-LIC-LOCATION:America/Kentucky/Louisville
BEGIN:STANDARD
DTSTART:20241103T010000
TZOFFSETFROM:-0400
TZOFFSETTO:-0500
TZNAME:EST
END:STANDARD
END:VTIMEZONE
END:VCALENDAR