BEGIN:VCALENDAR
VERSION:2.0
PRODID:-//wp-events-plugin.com//7.2.3.1//EN
BEGIN:VEVENT
UID:8148@visitlebanonky.com
DTSTART;TZID=America/Kentucky/Louisville:20251128T170000
DTEND;TZID=America/Kentucky/Louisville:20251128T210000
DTSTAMP:20251128T181902Z
URL:https://visitlebanonky.com/events/2025-dickens-christmas-in-downtown-l
 ebanon-parade-ice-skating-chili-cookoff-carriage-train-rides-santa-and-so-
 much-more/
SUMMARY:2025 Dickens Christmas in Downtown Lebanon - Parade - Ice Skating -
  Chili Cookoff - Carriage & Train Rides - Santa and so much more
DESCRIPTION:It's the 2025 Dickens Christmas celebration\, set for Friday\, 
 Nov. 28 in downtown Lebanon\, the Heart of Kentucky. There'll be ice skati
 ng\, a huge parade\, horse-drawn carriage rides\, vendors\, events\, a chi
 li cookoff\, free hot dogs\, Santa.\n\nAlso\, many retail stores will be d
 oing things to join in and help expand the event. Keep up with posts and d
 etails here: https://visitlebanonky.com/events-calendar/\n\nMost events ar
 e free and will be held in downtown Lebanon\, which will be blocked to tra
 ffic for public safety.\n\nIce skating in the Venue 68 parking lot.\nParad
 e with prize money for best floats (starts at 7 p.m.)\nSanta visits at Ven
 ue 68 after the parade.\nTree lighting (first event).\nTrain rides for kid
 s.\nCarriage rides (these have a fee)\nLeadership Lebanon craft fair and s
 ilent auction along with vendors in Jesse Insurance lot.\nThe Lebanon Lion
 s Club will be giving away free hot dogs—as long as they last.\nThe Mari
 on County Chamber of Commerce Chili Cook-Off begins at 5:30 p.m.\n\n&nbsp\
 ;\n\nParade Entry From BELOW\n\nDickens2025
ATTACH;FMTTYPE=image/jpeg:https://visitlebanonky.com/wp-content/uploads/20
 23/10/2023-Dickens-Artwork-e1729647962103.jpg
CATEGORIES:Official
LOCATION:Downtown Lebanon\, Main Street\, Lebanon\, KY/ Marion\, 40033\, Ma
 rion County\, United States
X-APPLE-STRUCTURED-LOCATION;VALUE=URI;X-ADDRESS=Main Street\, Lebanon\, KY/
  Marion\, 40033\, Marion County\, United States;X-APPLE-RADIUS=100;X-TITLE
 =Downtown Lebanon:geo:0,0
END:VEVENT
BEGIN:VTIMEZONE
TZID:America/Kentucky/Louisville
X-LIC-LOCATION:America/Kentucky/Louisville
BEGIN:STANDARD
DTSTART:20251102T010000
TZOFFSETFROM:-0400
TZOFFSETTO:-0500
TZNAME:EST
END:STANDARD
END:VTIMEZONE
END:VCALENDAR