BEGIN:VCALENDAR
VERSION:2.0
PRODID:-//wp-events-plugin.com//7.2.3.1//EN
BEGIN:VEVENT
UID:8146@visitlebanonky.com
DTSTART;TZID=America/Kentucky/Louisville:20251021T000000
DTEND;TZID=America/Kentucky/Louisville:20251124T000000
DTSTAMP:20251105T054741Z
URL:https://visitlebanonky.com/events/2025-holiday-window-display-contest/
SUMMARY:2025 Holiday Window Display Contest
DESCRIPTION:🎄✨ 2025 Holiday Window Display Contest ✨🎄\nHosted by 
 the Marion County Chamber of Commerce\nGet into the holiday spirit and hel
 p light up Lebanon this season! We’re inviting all businesses to decorat
 e your windows and spread festive cheer throughout our community!\n🏆 Ca
 sh Prizes Will Be Awarded For:\nDIY Window Winner — Decorated by your ow
 n team\nProfessional Window Winner — Decorated by a hired professional\n
 (Displays may be painted or decorated using holiday decor.)\n📅 Deadline
 : All windows must be completed by Monday\, November 24th for judging.\n
 📍 Ready to participate? Apply here:\n \nLet’s make Lebanon sparkle th
 is holiday season! ✨🎅🌟
ATTACH;FMTTYPE=image/jpeg:https://visitlebanonky.com/wp-content/uploads/20
 25/10/window-decorating.jpg
CATEGORIES:Official
END:VEVENT
BEGIN:VTIMEZONE
TZID:America/Kentucky/Louisville
X-LIC-LOCATION:America/Kentucky/Louisville
BEGIN:DAYLIGHT
DTSTART:20250309T030000
TZOFFSETFROM:-0500
TZOFFSETTO:-0400
TZNAME:EDT
END:DAYLIGHT
BEGIN:STANDARD
DTSTART:20251102T010000
TZOFFSETFROM:-0400
TZOFFSETTO:-0500
TZNAME:EST
END:STANDARD
END:VTIMEZONE
END:VCALENDAR