BEGIN:VCALENDAR
VERSION:2.0
PRODID:-//wp-events-plugin.com//7.2.3.1//EN
BEGIN:VEVENT
UID:9149@visitlebanonky.com
DTSTART;TZID=America/Kentucky/Louisville:20260528T180000
DTEND;TZID=America/Kentucky/Louisville:20260528T200000
DTSTAMP:20260331T180418Z
URL:https://visitlebanonky.com/events/2026-caip-cost-share-information-nig
 ht/
SUMMARY:2026 CAIP Cost Share Information Night
DESCRIPTION:You can follow the Marion County Cooperative Extension Office o
 n Facebook for this and other events HERE\nMark your calendars and plan to
  attend the 2026 CAIP cost-share information night!\n**RSVP by calling Nat
 alie Browning at 270-692-7681.
ATTACH;FMTTYPE=image/jpeg:https://visitlebanonky.com/wp-content/uploads/20
 26/03/caip.jpg
CATEGORIES:Community
LOCATION:Marion County Cooperative Extension Office\, 416 Fairgrounds Road\
 , Lebanon\, KY/Marion\, 40033\, United States
X-APPLE-STRUCTURED-LOCATION;VALUE=URI;X-ADDRESS=416 Fairgrounds Road\, Leba
 non\, KY/Marion\, 40033\, United States;X-APPLE-RADIUS=100;X-TITLE=Marion 
 County Cooperative Extension Office:geo:0,0
END:VEVENT
BEGIN:VTIMEZONE
TZID:America/Kentucky/Louisville
X-LIC-LOCATION:America/Kentucky/Louisville
BEGIN:DAYLIGHT
DTSTART:20260308T030000
TZOFFSETFROM:-0500
TZOFFSETTO:-0400
TZNAME:EDT
END:DAYLIGHT
END:VTIMEZONE
END:VCALENDAR