BEGIN:VCALENDAR
VERSION:2.0
PRODID:-//wp-events-plugin.com//7.2.3.1//EN
BEGIN:VEVENT
UID:8646@visitlebanonky.com
DTSTART;TZID=America/Kentucky/Louisville:20260307T173000
DTEND;TZID=America/Kentucky/Louisville:20260307T210000
DTSTAMP:20260117T213143Z
URL:https://visitlebanonky.com/events/21st-annual-forkland-old-fashioned-p
 ie-supper-and-spaghetti-dinner/
SUMMARY:21st Annual Forkland Old Fashioned  Pie Supper and Spaghetti Dinner
DESCRIPTION:You can find this event on Facebook HERE and follow the page HE
 RE\nSpaghetti dinner will be first entry is free the meal cost Adults $10 
 children$7 meal includes spaghetti salad and bread. Then the fun begins pi
 e made by local community member will be auctioned off to the highest bidd
 er auctioneer Willie Baker will be running the show. Come out for a great 
 night of food and fun and support your local community Auction will begin 
 at approximately 7 PM
ATTACH;FMTTYPE=image/jpeg:https://visitlebanonky.com/wp-content/uploads/20
 26/01/pie-supper.jpg
CATEGORIES:Community
LOCATION:Forkland Community Center\, 16479 Forkland Rd.\, Gravel Switch\, K
 Y/Boyle\, 40328\, Boyle County\, United States
X-APPLE-STRUCTURED-LOCATION;VALUE=URI;X-ADDRESS=16479 Forkland Rd.\, Gravel
  Switch\, KY/Boyle\, 40328\, Boyle County\, United States;X-APPLE-RADIUS=1
 00;X-TITLE=Forkland Community Center:geo:0,0
END:VEVENT
BEGIN:VTIMEZONE
TZID:America/Kentucky/Louisville
X-LIC-LOCATION:America/Kentucky/Louisville
BEGIN:STANDARD
DTSTART:20251102T010000
TZOFFSETFROM:-0400
TZOFFSETTO:-0500
TZNAME:EST
END:STANDARD
END:VTIMEZONE
END:VCALENDAR