BEGIN:VCALENDAR
VERSION:2.0
PRODID:-//wp-events-plugin.com//7.2.3.1//EN
BEGIN:VEVENT
UID:6586@visitlebanonky.com
DTSTART;TZID=America/Kentucky/Louisville:20250204T080000
DTEND;TZID=America/Kentucky/Louisville:20250204T090000
DTSTAMP:20241203T211428Z
URL:https://visitlebanonky.com/events/23rd-annual-josephine-nuckols-legisl
 ative-prayer-breakfast/
SUMMARY:23rd Annual Josephine Nuckols Legislative Prayer Breakfast
DESCRIPTION:FRANKFORT\, KY. —Sen. Jimmy Higdon has announced the schedule
  for his annual series of Legislative Coffee events and the 23rd Annual Jo
 sephine Nuckols Legislative Prayer Breakfast. These events allow constitue
 nts to hear updates\, ask questions\, and engage with Higdon and state rep
 resentatives before the 2025 Legislative Session.\n\nThe 23rd Annual Josep
 hine Nuckols Legislative Prayer Breakfast is scheduled for Saturday\, Janu
 ary 4. Breakfast will begin at 8 a.m. followed by a prayer service at 9 a.
 m. at Lebanon Methodist Church\, 236 North Spalding Avenue. Brother Lee Wa
 tts will be the guest speaker. This gathering offers a meaningful opportun
 ity to reflect and pray for guidance in the new year. \n\nThese events are
  open to the public\, and all constituents are encouraged to attend. Higdo
 n and his colleagues will be available for questions and to discuss legisl
 ative priorities and focus heading into the new legislative session. \n\n 
CATEGORIES:Community
LOCATION:Lebanon Methodist Church\, 236 N Spalding Avenue \, Lebanon\, Kent
 ucky\, 40033\, Marion County\, United States
GEO:37.572108;-85.253871
X-APPLE-STRUCTURED-LOCATION;VALUE=URI;X-ADDRESS=236 N Spalding Avenue \, Le
 banon\, Kentucky\, 40033\, Marion County\, United States;X-APPLE-RADIUS=10
 0;X-TITLE=Lebanon Methodist Church:geo:37.572108,-85.253871
END:VEVENT
BEGIN:VTIMEZONE
TZID:America/Kentucky/Louisville
X-LIC-LOCATION:America/Kentucky/Louisville
BEGIN:STANDARD
DTSTART:20241103T010000
TZOFFSETFROM:-0400
TZOFFSETTO:-0500
TZNAME:EST
END:STANDARD
END:VTIMEZONE
END:VCALENDAR