BEGIN:VCALENDAR
VERSION:2.0
PRODID:-//wp-events-plugin.com//7.2.3.1//EN
BEGIN:VEVENT
UID:8662@visitlebanonky.com
DTSTART;TZID=America/Kentucky/Louisville:20260212T173000
DTEND;TZID=America/Kentucky/Louisville:20260212T190000
DTSTAMP:20260129T222359Z
URL:https://visitlebanonky.com/events/27054/
SUMMARY:The Marion County Democratic Executive Committee Meeting - POSTPONE
 D TO FEB. 12
DESCRIPTION:Update!!!!   We are rescheduling this meeting for Thursday\, Fe
 bruary 12th.  \n\nThe Marion County Democratic Executive Committee will me
 et on Thursday\, January 29th at 5:30 pm at the Marion County Public Libra
 ry.  All Democrats are welcome to attend!! There will be a Zoom option ava
 ilable.  Below there is a link to sign up that you will plan to attend!  W
 e would love to see you!  Call 270-402-1290 if you need more information. 
 You can find this group on Facebook HERE
CATEGORIES:Community
LOCATION:Marion County Public Library\, 201 E Main St\, Lebanon\, KY/Marion
 \, 40033\, Marion County\, United States
X-APPLE-STRUCTURED-LOCATION;VALUE=URI;X-ADDRESS=201 E Main St\, Lebanon\, K
 Y/Marion\, 40033\, Marion County\, United States;X-APPLE-RADIUS=100;X-TITL
 E=Marion County Public Library:geo:0,0
END:VEVENT
BEGIN:VTIMEZONE
TZID:America/Kentucky/Louisville
X-LIC-LOCATION:America/Kentucky/Louisville
BEGIN:STANDARD
DTSTART:20251102T010000
TZOFFSETFROM:-0400
TZOFFSETTO:-0500
TZNAME:EST
END:STANDARD
END:VTIMEZONE
END:VCALENDAR