BEGIN:VCALENDAR
VERSION:2.0
PRODID:-//wp-events-plugin.com//7.2.3.1//EN
BEGIN:VEVENT
UID:9064@visitlebanonky.com
DTSTART;TZID=America/Kentucky/Louisville:20260318T173000
DTEND;TZID=America/Kentucky/Louisville:20260318T190000
DTSTAMP:20260317T172552Z
URL:https://visitlebanonky.com/events/27514/
SUMMARY:LCC Kids
DESCRIPTION:You can find the church on Facebook HERE\nWE HAVE SOME EXCITING
  NEWS!!!!!!\nLCC Kids will begin on Wednesday\, March 18!! \nPlace: Lebano
 n Community Church\n251 West Main Street Lebanon\n5:30 - 7:00 PM\nAll kids
  ages Kindergarten-5th grade WELCOME!!! \nMy name is Kristy Smith. I am a 
 mother and a grandmother. I have been the school nurse at Glasscock Elemen
 tary School for the past 12 years. As a nurse to some of the children in o
 ur community and as a mother and grandmother I want to help kids discover\
 , understand\, and love God and teach them the love that God has for them.
  \nMy goal for the parents is to have you some lessons and provide support
  to you in helping your children grow in their relationship with Jesus.
ATTACH;FMTTYPE=image/jpeg:https://visitlebanonky.com/wp-content/uploads/20
 26/03/lebanon-community-church.jpg
CATEGORIES:Community
LOCATION:Lebanon Community Church\, 251 W Main St\, Lebanon\, Kentucky\, 40
 033\, Marion County\, United States
GEO:37.568823;-85.255201
X-APPLE-STRUCTURED-LOCATION;VALUE=URI;X-ADDRESS=251 W Main St\, Lebanon\, K
 entucky\, 40033\, Marion County\, United States;X-APPLE-RADIUS=100;X-TITLE
 =Lebanon Community Church:geo:37.568823,-85.255201
END:VEVENT
BEGIN:VTIMEZONE
TZID:America/Kentucky/Louisville
X-LIC-LOCATION:America/Kentucky/Louisville
BEGIN:DAYLIGHT
DTSTART:20260308T030000
TZOFFSETFROM:-0500
TZOFFSETTO:-0400
TZNAME:EDT
END:DAYLIGHT
END:VTIMEZONE
END:VCALENDAR