BEGIN:VCALENDAR
VERSION:2.0
PRODID:-//wp-events-plugin.com//7.2.3.1//EN
BEGIN:VEVENT
UID:8133@visitlebanonky.com
DTSTART;TZID=America/Kentucky/Louisville:20251107T000000
DTEND;TZID=America/Kentucky/Louisville:20251108T000000
DTSTAMP:20251107T004545Z
URL:https://visitlebanonky.com/events/2nd-annual-merry-on-main-winter-vend
 or-market/
SUMMARY:2nd Annual Merry on Main Winter Vendor Market
DESCRIPTION:Find vendor information and more on the event page on Facebook 
 HERE  \n2nd Annual Merry on Main Winter Vendor Market — a cozy\, communi
 ty celebration packed with local charm and holiday cheer!\n🗓️ Friday\
 , November 7\, 2025 5 PM – 8 PM\n🗓️ Saturday\, November 8\, 2025 9 
 AM – 4 PM\n📍 Main Street (location details if needed)\n🎁 Expect lo
 ts of amazing vendors offering handmade goods\, seasonal treats\, and one-
 of-a-kind gifts perfect for everyone on your list. Whether you're shopping
 \, sipping\, or just soaking in the festive vibes\, this market is the pla
 ce to be!\nBring your friends\, your family\, and your holiday spirit — 
 we can’t wait to see you there! 💫
ATTACH;FMTTYPE=image/jpeg:https://visitlebanonky.com/wp-content/uploads/20
 25/10/vendor.jpg
CATEGORIES:Official
LOCATION:The Shop\, 235 West Main Street\, Lebanon\, Kentucky\, 40033\, Mar
 ion County\, United States
GEO:37.568953;-85.254993
X-APPLE-STRUCTURED-LOCATION;VALUE=URI;X-ADDRESS=235 West Main Street\, Leba
 non\, Kentucky\, 40033\, Marion County\, United States;X-APPLE-RADIUS=100;
 X-TITLE=The Shop:geo:37.568953,-85.254993
END:VEVENT
BEGIN:VTIMEZONE
TZID:America/Kentucky/Louisville
X-LIC-LOCATION:America/Kentucky/Louisville
BEGIN:STANDARD
DTSTART:20251102T010000
TZOFFSETFROM:-0400
TZOFFSETTO:-0500
TZNAME:EST
END:STANDARD
END:VTIMEZONE
END:VCALENDAR