BEGIN:VCALENDAR
VERSION:2.0
PRODID:-//wp-events-plugin.com//7.2.3.1//EN
BEGIN:VEVENT
UID:7868@visitlebanonky.com
DTSTART;TZID=America/Kentucky/Louisville:20250823T190000
DTEND;TZID=America/Kentucky/Louisville:20250823T230000
DTSTAMP:20250811T180039Z
URL:https://visitlebanonky.com/events/2nd-annual-wine-and-cheese-tasting/
SUMMARY:2nd Annual Wine and Cheese Tasting
DESCRIPTION:Join us on August 23rd for an elegant evening at the upcoming W
 ine and Cheese Tasting hosted in The Blackbox Club  at Kentucky Classic AR
 TS at Centre Square .  \nGuests will enjoy a curated experience featuring 
 over 21 Kentucky wines\, paired with delicious charcuterie selections.  Th
 e evening also includes a beer garden\, live music\, and the warm ambiance
  of our unique venue. \nToday’s spotlight is on Chenault Vineyards .  Si
 tuated on 500 scenic acres in Richmond\, Kentucky\, its more than a winery
 —it's a destination. With sweeping views and a welcoming atmosphere\, th
 eir Welcome Center is open to the public for wine tastings\, lunch and din
 ner\, live music\, and relaxing moments surrounded by natural beauty. \nTh
 eir wine selection offers something for every palate\, from classic reds a
 nd whites to unique varietals like blueberry and bourbon barrel-aged peach
 .  Known for both quality and creativity\, Chenault Vineyards delivers an 
 experience—and a taste—you won’t forget. \n Don’t miss this chance
  to sip\, savor\, and support community arts in a relaxed and refined sett
 ing.  Stay tuned for more winery spotlights as we count down to an unforge
 ttable night!\nhttp://www.chenaultvineyards.com/\nGet your tickets here: h
 ttps://kentuckyclassicarts.thundertix.com/events/251228
ATTACH;FMTTYPE=image/jpeg:https://visitlebanonky.com/wp-content/uploads/20
 25/08/wine-and-cheese.jpg
CATEGORIES:Official
LOCATION:Kentucky Classic Arts Blackbox Club\, 237 North Spalding Avenue - 
 Downstairs\, Lebanon\, Kentucky\, 40033\, Marion County\, United States
X-APPLE-STRUCTURED-LOCATION;VALUE=URI;X-ADDRESS=237 North Spalding Avenue -
  Downstairs\, Lebanon\, Kentucky\, 40033\, Marion County\, United States;X
 -APPLE-RADIUS=100;X-TITLE=Kentucky Classic Arts Blackbox Club:geo:0,0
END:VEVENT
BEGIN:VTIMEZONE
TZID:America/Kentucky/Louisville
X-LIC-LOCATION:America/Kentucky/Louisville
BEGIN:DAYLIGHT
DTSTART:20250309T030000
TZOFFSETFROM:-0500
TZOFFSETTO:-0400
TZNAME:EDT
END:DAYLIGHT
END:VTIMEZONE
END:VCALENDAR