BEGIN:VCALENDAR
VERSION:2.0
PRODID:-//wp-events-plugin.com//7.2.3.1//EN
BEGIN:VEVENT
UID:7830@visitlebanonky.com
DTSTART;TZID=America/Kentucky/Louisville:20250809T000000
DTEND;TZID=America/Kentucky/Louisville:20250809T000000
DTSTAMP:20250730T170223Z
URL:https://visitlebanonky.com/events/3-gun-competition/
SUMMARY:3-Gun Competition
DESCRIPTION:This will be a timed 3 gun event. For pistols and rifles\, it w
 ill be RIMFIRE CALIBER ONLY. We do not have steel rated for anything highe
 r. Any gauge shotgun is fine\, but you must have 6 to 9 shot only! Anythin
 g different will not be allowed on the course. All weapons are open class.
  Iron sights\, red dots\, scopes\, any style firearm is acceptable as long
  as it falls under the caliber and shotgun shell requirments listed above.
 \nEntry fee is $20\, and we will be paying out 50% of the entry fees to 1s
 t place only. The other 50% goes to the club. Safety will be a priority at
  this event. ANY flagging will result in an immediate DQ. Practice proper 
 barrel and trigger discipline\, and lets have some fun!
ATTACH;FMTTYPE=image/jpeg:https://visitlebanonky.com/wp-content/uploads/20
 25/07/3-gun-competition.jpg
CATEGORIES:Community
LOCATION:Marion County Sportsmans Club\, 716 Sportsmans Lake Road\, Lebanon
 \, Kentucky\, 40033\, Marion County\, United States
GEO:37.51209;-85.24837
X-APPLE-STRUCTURED-LOCATION;VALUE=URI;X-ADDRESS=716 Sportsmans Lake Road\, 
 Lebanon\, Kentucky\, 40033\, Marion County\, United States;X-APPLE-RADIUS=
 100;X-TITLE=Marion County Sportsmans Club:geo:37.51209,-85.24837
END:VEVENT
BEGIN:VTIMEZONE
TZID:America/Kentucky/Louisville
X-LIC-LOCATION:America/Kentucky/Louisville
BEGIN:DAYLIGHT
DTSTART:20250309T030000
TZOFFSETFROM:-0500
TZOFFSETTO:-0400
TZNAME:EDT
END:DAYLIGHT
END:VTIMEZONE
END:VCALENDAR