BEGIN:VCALENDAR
VERSION:2.0
PRODID:-//wp-events-plugin.com//7.2.3.1//EN
BEGIN:VEVENT
UID:7919@visitlebanonky.com
DTSTART;TZID=America/Kentucky/Louisville:20250928T080000
DTEND;TZID=America/Kentucky/Louisville:20250928T140000
DTSTAMP:20250925T163915Z
URL:https://visitlebanonky.com/events/3d-archery-shoot-2/
SUMMARY:3D Archery Shoot
DESCRIPTION:We're growing in numbers with each shoot\, and the next one\, o
 ur final 3D Archery Shoot for this fall\, should be another good one.\nIt'
 s set for Sunday\, Sept. 28\, 2025 on our beautiful Marion County Sportsma
 n's Club grounds\, located on the backside of Sportsman's Lake in Marion C
 ounty\, near Lebanon\, KY.\nCompetition opens and targets are ready to go 
 at 8 a.m.\nCompetition scoring ends at 2 p.m.\nYou may shoot the course at
  any time during that timeframe...and shoot as many times as you want.\nEn
 trance fee is $10 per archer\, and money raised is used to support the Mar
 ion County Sportsman's Club.\nThere are 20 targets spread throughout an ap
 proximately half-mile course.\nThe 3D targets include deer\, bobcat\, and 
 more lifelike wildlife\, including a full size elk.\nMost of the course is
  easy walking\, and includes some tougher shots along a trail through wood
 s.\nDespite some challenges\, this course is perfect for young and beginni
 ng archers\, women archers and hunters\, and hardcore hunters who are tryi
 ng to keep their skills sharp during hunting season.\nThe course\, with it
 s targets\, is also perfect for school archery clubs and shooters.\nIf you
  need more details or have questions\, please contact club member Ethan Sp
 alding at (270) 692-7412.\nIn addition\, if you aren't already a club memb
 er\, we'd love to have you. Join and take advantage of our gun shooting ra
 nge and year round club activities.\nTo learn more about where to eat and 
 stay\, and things to do while you're in Lebanon and Marion County\, go to 
 www.visitlebanonky.com\nYou can find this event on Facebook at https://www
 .facebook.com/share/1H6quw4mRd/\n
ATTACH;FMTTYPE=image/jpeg:https://visitlebanonky.com/wp-content/uploads/20
 25/08/archery.jpg
CATEGORIES:Community
LOCATION:Marion County Sportsmans Club\, 716 Sportsmans Lake Road\, Lebanon
 \, Kentucky\, 40033\, Marion County\, United States
GEO:37.51209;-85.24837
X-APPLE-STRUCTURED-LOCATION;VALUE=URI;X-ADDRESS=716 Sportsmans Lake Road\, 
 Lebanon\, Kentucky\, 40033\, Marion County\, United States;X-APPLE-RADIUS=
 100;X-TITLE=Marion County Sportsmans Club:geo:37.51209,-85.24837
END:VEVENT
BEGIN:VTIMEZONE
TZID:America/Kentucky/Louisville
X-LIC-LOCATION:America/Kentucky/Louisville
BEGIN:DAYLIGHT
DTSTART:20250309T030000
TZOFFSETFROM:-0500
TZOFFSETTO:-0400
TZNAME:EDT
END:DAYLIGHT
END:VTIMEZONE
END:VCALENDAR