BEGIN:VCALENDAR
VERSION:2.0
PRODID:-//wp-events-plugin.com//7.2.3.1//EN
BEGIN:VEVENT
UID:9156@visitlebanonky.com
DTSTART;TZID=America/Kentucky/Louisville;VALUE=DATE:20260604
DTEND;TZID=America/Kentucky/Louisville;VALUE=DATE:20260608
DTSTAMP:20260331T183135Z
URL:https://visitlebanonky.com/events/400-mile-yard-sale-along-route-68-3/
SUMMARY:400 Mile Yard Sale Along Route 68
DESCRIPTION:You can find the 400 Mile Yard Sale Along Route 68 from June 4-
 7\, 2026. For more information and to register your site go HERE  \n\nCall
 ing all churches\, organizations\, businesses or farmers with fields along
  Hwy 68!  Register your multi-site sale for the 2024 event\, and we will h
 elp you fill the lot! Whether you have a barn sale\, yard sale\, estate sa
 le\, rummage sale or roadside stand\, you will want to register here! Regi
 stration is free and you can search by county. Find Sales\; Multi-sites. S
 elect your county\, and find every registered sale near you. Once you have
  made your travel plan\, use our site to find the county's best restaurant
 s and hotels to make it a long weekend. Remember to scroll left and right 
 if you're on mobile. There is even an option to map your route.\n\nSales w
 ill be June 4-7\, 2026 along historic US Highway 68 which runs right throu
 gh Marion County’s beautiful downtown. Stop along the way and dine with 
 us or come a day early and check out the Bourbon Trail. This is the perfec
 t weekend to plan your trip to Lebanon\, KY.\n\nFor all the ways you can s
 hop\, dine\, stay and tour bourbon attractions\, go HERE  
ATTACH;FMTTYPE=image/jpeg:https://visitlebanonky.com/wp-content/uploads/20
 25/03/400-mile-yard-sale.png
CATEGORIES:Official
END:VEVENT
BEGIN:VTIMEZONE
TZID:America/Kentucky/Louisville
X-LIC-LOCATION:America/Kentucky/Louisville
BEGIN:DAYLIGHT
DTSTART:20260308T030000
TZOFFSETFROM:-0500
TZOFFSETTO:-0400
TZNAME:EDT
END:DAYLIGHT
END:VTIMEZONE
END:VCALENDAR