BEGIN:VCALENDAR
VERSION:2.0
PRODID:-//wp-events-plugin.com//7.2.3.1//EN
BEGIN:VEVENT
UID:7615@visitlebanonky.com
DTSTART;TZID=America/Kentucky/Louisville:20250605T000000
DTEND;TZID=America/Kentucky/Louisville:20250608T000000
DTSTAMP:20250606T003134Z
URL:https://visitlebanonky.com/events/400-mile-yard-sale-at-mcecs/
SUMMARY:400 Mile Yard Sale at MCECS
DESCRIPTION:The 400 Mile Yard Sale is coming to the MCECS!!!\nJune 5th\, 6t
 h\, 7th\, & 8th \nIndoor $125 & Outdoor $100 Spots Available \nSet Up\, Be
  Comfortable\, Sell Your Stuff.... It's Kind of Boujee!!!\nAir Conditionin
 g\, Restrooms\, & Concessions\n\nThe gymnasium area has approximately 23\,
 000 square feet of playable & recreation space. There are also three meeti
 ng/community rooms. It's set to open in mid April of 2025. If you are inte
 rested in scheduling your event at the MCECS contact Director Will Knight 
 at william.knight@marioncountyky.gov or call/text at 270-692-7387. You can
  find them on Facebook at https://www.facebook.com/profile.php?id=61569075
 423725 
CATEGORIES:Official
LOCATION:Marion County Event Center and Sportsplex\, Independence Drive\, L
 ebanon\, KY\, 40033\, Marion County\, United States
X-APPLE-STRUCTURED-LOCATION;VALUE=URI;X-ADDRESS=Independence Drive\, Lebano
 n\, KY\, 40033\, Marion County\, United States;X-APPLE-RADIUS=100;X-TITLE=
 Marion County Event Center and Sportsplex:geo:0,0
END:VEVENT
BEGIN:VTIMEZONE
TZID:America/Kentucky/Louisville
X-LIC-LOCATION:America/Kentucky/Louisville
BEGIN:DAYLIGHT
DTSTART:20250309T030000
TZOFFSETFROM:-0500
TZOFFSETTO:-0400
TZNAME:EDT
END:DAYLIGHT
END:VTIMEZONE
END:VCALENDAR