BEGIN:VCALENDAR
VERSION:2.0
PRODID:-//wp-events-plugin.com//7.2.3.1//EN
BEGIN:VEVENT
UID:9134@visitlebanonky.com
DTSTART;TZID=America/Kentucky/Louisville:20260509T080000
DTEND;TZID=America/Kentucky/Louisville:20260509T100000
DTSTAMP:20260327T163946Z
URL:https://visitlebanonky.com/events/5k-color-run/
SUMMARY:5K Color Run
DESCRIPTION:Our Color Fun Run will be on May 9 starting at 8 a.m.  It will 
 be a 5K this year instead of one mile.  We need volunteers to throw color 
 so if you're not interested in running but still would like to participate
 \, please sign up to volunteer.  \nThe fee for the race is $15 for adults\
 , kids run for free. We will be accepting cash or check and payments must 
 be made out to the Friends of the Library-Marion County KY. Both signups c
 an be found linked below\, and you can see the map on the library's Facebo
 ok page that shows the route we will be taking. If you have any further qu
 estions please email rachael.lynch@marioncopublic.org.  \nWe are so excite
 d to do this again\, and do it bigger!\nVolunteer Signup HERE\nSign up to 
 run HERE\nFollow the Marion County Public Library on Facebook HERE\n \nEnd
 ing times may not be correct. When no time is listed we publish an approxi
 mate time.\n
ATTACH;FMTTYPE=image/jpeg:https://visitlebanonky.com/wp-content/uploads/20
 26/03/color-run.jpg
CATEGORIES:Community
LOCATION:Marion County Public Library\, 201 E Main St\, Lebanon\, KY/Marion
 \, 40033\, Marion County\, United States
X-APPLE-STRUCTURED-LOCATION;VALUE=URI;X-ADDRESS=201 E Main St\, Lebanon\, K
 Y/Marion\, 40033\, Marion County\, United States;X-APPLE-RADIUS=100;X-TITL
 E=Marion County Public Library:geo:0,0
END:VEVENT
BEGIN:VTIMEZONE
TZID:America/Kentucky/Louisville
X-LIC-LOCATION:America/Kentucky/Louisville
BEGIN:DAYLIGHT
DTSTART:20260308T030000
TZOFFSETFROM:-0500
TZOFFSETTO:-0400
TZNAME:EDT
END:DAYLIGHT
END:VTIMEZONE
END:VCALENDAR