BEGIN:VCALENDAR
VERSION:2.0
PRODID:-//wp-events-plugin.com//7.2.3.1//EN
BEGIN:VEVENT
UID:7635@visitlebanonky.com
DTSTART;TZID=America/Kentucky/Louisville:20250913T100000
DTEND;TZID=America/Kentucky/Louisville:20250913T153000
DTSTAMP:20250825T195913Z
URL:https://visitlebanonky.com/events/9th-annual-pee-wee-car-show/
SUMMARY:9th Annual Pee Wee Car Show
DESCRIPTION:
ATTACH;FMTTYPE=image/jpeg:https://visitlebanonky.com/wp-content/uploads/20
 25/05/pee-wee-e1748495757450.jpg
CATEGORIES:Community
LOCATION:M&H Tent Rentals Lot\, 25 Twin Eagles Lane\, Lebanon\, Kentucky\, 
 40033\, Marion County\, United States
GEO:37.536032;-85.298373
X-APPLE-STRUCTURED-LOCATION;VALUE=URI;X-ADDRESS=25 Twin Eagles Lane\, Leban
 on\, Kentucky\, 40033\, Marion County\, United States;X-APPLE-RADIUS=100;X
 -TITLE=M&H Tent Rentals Lot:geo:37.536032,-85.298373
END:VEVENT
BEGIN:VTIMEZONE
TZID:America/Kentucky/Louisville
X-LIC-LOCATION:America/Kentucky/Louisville
BEGIN:DAYLIGHT
DTSTART:20250309T030000
TZOFFSETFROM:-0500
TZOFFSETTO:-0400
TZNAME:EDT
END:DAYLIGHT
END:VTIMEZONE
END:VCALENDAR