BEGIN:VCALENDAR
VERSION:2.0
PRODID:-//wp-events-plugin.com//7.2.3.1//EN
BEGIN:VEVENT
UID:8851@visitlebanonky.com
DTSTART;TZID=America/Kentucky/Louisville:20260314T170000
DTEND;TZID=America/Kentucky/Louisville:20260314T200000
DTSTAMP:20260223T161017Z
URL:https://visitlebanonky.com/events/a-night-at-the-races-2/
SUMMARY:A Night at the Races
DESCRIPTION:Follow Bradfordsville School Community Building HERE\nWhy wait 
 until the Kentucky Derby when you can join the fun now? Join us for a nigh
 t of virtual horse racing and try your luck at winning some amazing prizes
 ! Proceeds go towards funding activities for Bradfordsville youth and seni
 ors.\n\nA night at the races is an audience participation event where actu
 al races are shown to recreate the atmosphere of being at the race track. 
 There is no gambling involved\, only a night of food\, fun\, and the thril
 l of winning prizes.\nA $25 donation will include a meal\, play money\, an
 d a horse when you arrive.\nIF YOU WANT DINNER ONLY\nDinner is $10 for adu
 lts and $5 for children 10 and under.\nYou can find the event page on Face
 book HERE
ATTACH;FMTTYPE=image/jpeg:https://visitlebanonky.com/wp-content/uploads/20
 26/02/A-NITE-AT-THE-RACES.jpg
CATEGORIES:Community
LOCATION:Bradfordsville School Building\, 115 S 6th Street\, Bradfordsville
 \, Kentucky\, 40009\, Marion County\, United States
GEO:37.494892;-85.150231
X-APPLE-STRUCTURED-LOCATION;VALUE=URI;X-ADDRESS=115 S 6th Street\, Bradford
 sville\, Kentucky\, 40009\, Marion County\, United States;X-APPLE-RADIUS=1
 00;X-TITLE=Bradfordsville School Building:geo:37.494892,-85.150231
END:VEVENT
BEGIN:VTIMEZONE
TZID:America/Kentucky/Louisville
X-LIC-LOCATION:America/Kentucky/Louisville
BEGIN:DAYLIGHT
DTSTART:20260308T030000
TZOFFSETFROM:-0500
TZOFFSETTO:-0400
TZNAME:EDT
END:DAYLIGHT
END:VTIMEZONE
END:VCALENDAR