BEGIN:VCALENDAR
VERSION:2.0
PRODID:-//wp-events-plugin.com//7.2.3.1//EN
BEGIN:VEVENT
UID:9106@visitlebanonky.com
DTSTART:20260328T000000Z
DTEND:20260329T000000Z
DTSTAMP:20260324T182019Z
URL:https://visitlebanonky.com/events/a-spring-market-of-artisans-food-and
 -merriment/
SUMMARY:A Spring Market of Artisans\, Food and Merriment
DESCRIPTION:When the frost loosens its grip and the first green returns to 
 the hedgerows\, we gather.\nThe Hearthside Artisan Gathering is a springti
 de meeting of Artisans\, makers\, growers\, healers\, and wanderers. A pla
 ce where hands that craft\, cook\, carve\, and tend come together beneath 
 one roof to share their work\, their stories\, and their warmth.\nYou’ll
  find artisans an makers\, good food\, laughter of children\, and the quie
 t work of those who tend energy and plant wisdom. Herbs\, teachings\, and 
 the small\, forgotten ways of the land will be shared beside painted faces
 \, hearth-born goods\, and the simple joy of community.\nThis is not merel
 y a market…\nIt is a gathering.\nA place to slow\, to listen\, and to re
 member.\nCome walk the aisles as you would a woodland trail.\nCome meet th
 e hands behind the craft.\nCome sit awhile by the hearth of spring’s ret
 urn.\n \nIf you're interested in bein a Artistian/Maker or want to offer f
 ace painting\, henna\, or a spot for sharing what ya know\, reach out to S
 age Blair (270) 608-9993 text is best or reach via facebook or\nemail Natu
 resforgottenwhispers@gmail.com\nyou may reach out to any of the cohost as 
 well. \nFind this event on facebook HERE
ATTACH;FMTTYPE=image/jpeg:https://visitlebanonky.com/wp-content/uploads/20
 26/03/a-spring.jpg
CATEGORIES:Official
LOCATION:St. Joe Community Center\, 3300 St. Joe Rd.\, Raywick\, Kentucky\,
  40060\, United States
GEO:37.523808;-85.388584
X-APPLE-STRUCTURED-LOCATION;VALUE=URI;X-ADDRESS=3300 St. Joe Rd.\, Raywick\
 , Kentucky\, 40060\, United States;X-APPLE-RADIUS=100;X-TITLE=St. Joe Comm
 unity Center:geo:37.523808,-85.388584
END:VEVENT
END:VCALENDAR