BEGIN:VCALENDAR
VERSION:2.0
PRODID:-//wp-events-plugin.com//7.2.3.1//EN
BEGIN:VEVENT
UID:8413@visitlebanonky.com
DTSTART;TZID=America/Kentucky/Louisville:20260915T180000
DTEND;TZID=America/Kentucky/Louisville:20260915T190000
DTSTAMP:20251204T034057Z
URL:https://visitlebanonky.com/events/a-table-for-all-free-meal-2-2026-01-
 06-2026-01-13-2026-01-20-2026-01-27-2026-02-03-2026-02-10-2026-02-17-2026-
 02-24-2026-03-03-2026-03-10-2026-03-17-2026-03-24-2026-03-31-2026-04-07-20
 26-08-2026-09-15/
SUMMARY:A Table For All Free Meal
DESCRIPTION:🍽️ A Table For All – Free Community Meal\n🕕 Every Tue
 sday | 6–7 PM\n📍 Lebanon Methodist Church\, 236 N Spalding Ave\, Leba
 non\, KY 40033\nAll are welcome—families\, neighbors\, seniors\, student
 s. \n\nThank you to our partner churches/organizations for making this pos
 sible! Lebanon Methodist Church\, Open Arms Community Church\, Family Fell
 owship Prayer Center\, Beechfork Baptist Church and  United Concerned Citi
 zens Organization.\n\n
ATTACH;FMTTYPE=image/jpeg:https://visitlebanonky.com/wp-content/uploads/20
 25/10/a-table-for-all.jpg
CATEGORIES:Community
LOCATION:Lebanon Methodist Church\, 236 N Spalding Avenue \, Lebanon\, Kent
 ucky\, 40033\, Marion County\, United States
GEO:37.572108;-85.253871
X-APPLE-STRUCTURED-LOCATION;VALUE=URI;X-ADDRESS=236 N Spalding Avenue \, Le
 banon\, Kentucky\, 40033\, Marion County\, United States;X-APPLE-RADIUS=10
 0;X-TITLE=Lebanon Methodist Church:geo:37.572108,-85.253871
END:VEVENT
BEGIN:VTIMEZONE
TZID:America/Kentucky/Louisville
X-LIC-LOCATION:America/Kentucky/Louisville
BEGIN:DAYLIGHT
DTSTART:20260308T030000
TZOFFSETFROM:-0500
TZOFFSETTO:-0400
TZNAME:EDT
END:DAYLIGHT
END:VTIMEZONE
END:VCALENDAR