BEGIN:VCALENDAR
VERSION:2.0
PRODID:-//wp-events-plugin.com//7.2.3.1//EN
BEGIN:VEVENT
UID:8159@visitlebanonky.com
DTSTART;TZID=America/Kentucky/Louisville:20251223T180000
DTEND;TZID=America/Kentucky/Louisville:20251223T190000
DTSTAMP:20251204T033705Z
URL:https://visitlebanonky.com/events/a-table-for-all-free-meal-2025-10-28
 -2025-11-04-2025-11-11-2025-11-18-2025-11-25-2025-12-02-2025-12-09-2025-12
 -16-2025-12-23/
SUMMARY:A Table For All Free Meal
DESCRIPTION:🍽️ A Table For All – Free Community Meal\n🕕 Every Tue
 sday | 6–7 PM\n📍 Lebanon Methodist Church\, 236 N Spalding Ave\, Leba
 non\, KY 40033\nAll are welcome—families\, neighbors\, seniors\, student
 s. \n\nThank you to our partner churches/organizations for making this pos
 sible! Lebanon Methodist Church\, Open Arms Community Church\, Family Fell
 owship Prayer Center\, Beechfork Baptist Church and  United Concerned Citi
 zens Organization.\n\n
ATTACH;FMTTYPE=image/jpeg:https://visitlebanonky.com/wp-content/uploads/20
 25/10/table-for-all-2.jpg
CATEGORIES:Community
LOCATION:Lebanon Methodist Church\, 236 N Spalding Avenue \, Lebanon\, Kent
 ucky\, 40033\, Marion County\, United States
GEO:37.572108;-85.253871
X-APPLE-STRUCTURED-LOCATION;VALUE=URI;X-ADDRESS=236 N Spalding Avenue \, Le
 banon\, Kentucky\, 40033\, Marion County\, United States;X-APPLE-RADIUS=10
 0;X-TITLE=Lebanon Methodist Church:geo:37.572108,-85.253871
END:VEVENT
BEGIN:VTIMEZONE
TZID:America/Kentucky/Louisville
X-LIC-LOCATION:America/Kentucky/Louisville
BEGIN:STANDARD
DTSTART:20251102T010000
TZOFFSETFROM:-0400
TZOFFSETTO:-0500
TZNAME:EST
END:STANDARD
END:VTIMEZONE
END:VCALENDAR