BEGIN:VCALENDAR
VERSION:2.0
PRODID:-//wp-events-plugin.com//7.2.3.1//EN
BEGIN:VEVENT
UID:9211@visitlebanonky.com
DTSTART;TZID=America/Kentucky/Louisville:20260509T080000
DTEND;TZID=America/Kentucky/Louisville:20260509T130000
DTSTAMP:20260420T220634Z
URL:https://visitlebanonky.com/events/adams-army-benefit-bake-sale/
SUMMARY:Adam's Army Benefit Bake Sale
DESCRIPTION:Come see us at Loretto Foodland on May 9th and grab something f
 or your Mother’s Day celebrations\, all while supporting a great cause!!
 \nYou can follow the benefit on Facebook HERE for more information.\nNote 
 the actual time is until sold out.
ATTACH;FMTTYPE=image/jpeg:https://visitlebanonky.com/wp-content/uploads/20
 26/04/BAKE-SALE.jpg
CATEGORIES:Community
LOCATION:Loretto Foodland\, 4905 Hwy. 52\, Lebanon\, KY/ Marion\, 40037\, M
 arion County\, United States
GEO:42.03417;-91.59768
X-APPLE-STRUCTURED-LOCATION;VALUE=URI;X-ADDRESS=4905 Hwy. 52\, Lebanon\, KY
 / Marion\, 40037\, Marion County\, United States;X-APPLE-RADIUS=100;X-TITL
 E=Loretto Foodland:geo:42.03417,-91.59768
END:VEVENT
BEGIN:VTIMEZONE
TZID:America/Kentucky/Louisville
X-LIC-LOCATION:America/Kentucky/Louisville
BEGIN:DAYLIGHT
DTSTART:20260308T030000
TZOFFSETFROM:-0500
TZOFFSETTO:-0400
TZNAME:EDT
END:DAYLIGHT
END:VTIMEZONE
END:VCALENDAR