BEGIN:VCALENDAR
VERSION:2.0
PRODID:-//wp-events-plugin.com//7.2.3.1//EN
BEGIN:VEVENT
UID:8164@visitlebanonky.com
DTSTART;TZID=America/Kentucky/Louisville:20251123T000000
DTEND;TZID=America/Kentucky/Louisville:20251123T000000
DTSTAMP:20251028T235346Z
URL:https://visitlebanonky.com/events/advent-group/
SUMMARY:Advent Group
DESCRIPTION:✨We are having an Advent group for women this year! ✨The de
 votional book is called "A Thrill of Hope" by Blessed is She. Forms are at
  the back of both churches to sign up and can be placed in the weekend col
 lection basket or dropped off at the St. A office. The cost is $10 for the
  book. Women of all ages welcome 💕. Let’s do Advent together!
ATTACH;FMTTYPE=image/jpeg:https://visitlebanonky.com/wp-content/uploads/20
 25/10/advent.jpg
CATEGORIES:Community
LOCATION:Holy Name of Mary Catholic Church parish hall\, 3295 New Calvary R
 oad\, LEBANON/ CALVARY\, KY/MARION\, 40033\, Marion County\, United States
X-APPLE-STRUCTURED-LOCATION;VALUE=URI;X-ADDRESS=3295 New Calvary Road\, LEB
 ANON/ CALVARY\, KY/MARION\, 40033\, Marion County\, United States;X-APPLE-
 RADIUS=100;X-TITLE=Holy Name of Mary Catholic Church parish hall:geo:0,0
END:VEVENT
BEGIN:VTIMEZONE
TZID:America/Kentucky/Louisville
X-LIC-LOCATION:America/Kentucky/Louisville
BEGIN:STANDARD
DTSTART:20251102T010000
TZOFFSETFROM:-0400
TZOFFSETTO:-0500
TZNAME:EST
END:STANDARD
END:VTIMEZONE
END:VCALENDAR