BEGIN:VCALENDAR
VERSION:2.0
PRODID:-//wp-events-plugin.com//7.2.3.1//EN
BEGIN:VEVENT
UID:9174@visitlebanonky.com
DTSTART;TZID=America/Kentucky/Louisville:20260411T090000
DTEND;TZID=America/Kentucky/Louisville:20260411T140000
DTSTAMP:20260410T190818Z
URL:https://visitlebanonky.com/events/ag-and-farm-swap-2/
SUMMARY:Ag and Farm Swap
DESCRIPTION:Come out and show support for our local farmers\, friends and n
 eighbors at Norby's in Lebanon\, KY! No vendor or parking fees!! Everyone 
 Welcome! Open to all vendors with agriculture related items\, poultry\, ra
 bbits\, smaller livestock\, handmade/homemade goods\, crafted items\, and 
 more! PLEASE CONTACT Lindy @ 606-254-5279 if you're a First-Time vendor!!!
  It's always a good day at the Chicken Swap! Come be a part of this growin
 g community! \n\nFrom homemade/handmade goods\, small livestock like poult
 ry and rabbits- and all kinds of handy items... You can find just about an
 ything! Lots of eggs for eating or hatching\, sweet treats\, breads\, jams
 \, chicks\, ducklings and sometimes harder to find critters like guineas a
 nd pheasants! Seasonal produce will make an appearance soon\, too!! Ya jus
 t really gotta come see what's available each swap because it changes ever
 y time!! 
CATEGORIES:Community
LOCATION:Norby Parking Lot\, 192 Lebanon Trade Center\, Lebanon\, Kentucky\
 , 40033\, Marion County\, United States
GEO:37.558888;-85.270473
X-APPLE-STRUCTURED-LOCATION;VALUE=URI;X-ADDRESS=192 Lebanon Trade Center\, 
 Lebanon\, Kentucky\, 40033\, Marion County\, United States;X-APPLE-RADIUS=
 100;X-TITLE=Norby Parking Lot:geo:37.558888,-85.270473
END:VEVENT
BEGIN:VTIMEZONE
TZID:America/Kentucky/Louisville
X-LIC-LOCATION:America/Kentucky/Louisville
BEGIN:DAYLIGHT
DTSTART:20260308T030000
TZOFFSETFROM:-0500
TZOFFSETTO:-0400
TZNAME:EDT
END:DAYLIGHT
END:VTIMEZONE
END:VCALENDAR