BEGIN:VCALENDAR
VERSION:2.0
PRODID:-//wp-events-plugin.com//7.2.3.1//EN
BEGIN:VEVENT
UID:9198@visitlebanonky.com
DTSTART;TZID=America/Kentucky/Louisville:20260501T170000
DTEND;TZID=America/Kentucky/Louisville:20260501T210000
DTSTAMP:20260417T195633Z
URL:https://visitlebanonky.com/events/american-legion-customer-appreciatio
 n-night/
SUMMARY:American Legion Customer Appreciation Night
DESCRIPTION:Follow Jim Bob Moore American Legion Post 49 on Facebook HERE
ATTACH;FMTTYPE=image/jpeg:https://visitlebanonky.com/wp-content/uploads/20
 26/04/CUSTOMER-APPRECIATION.jpg
CATEGORIES:Community
LOCATION:Jim Bob Moore American Legion Post 49\, 549 W Main Street\, Lebano
 n\, Kentucky\, 40033\, Marion County\, United States
GEO:37.564607;-85.264132
X-APPLE-STRUCTURED-LOCATION;VALUE=URI;X-ADDRESS=549 W Main Street\, Lebanon
 \, Kentucky\, 40033\, Marion County\, United States;X-APPLE-RADIUS=100;X-T
 ITLE=Jim Bob Moore American Legion Post 49:geo:37.564607,-85.264132
END:VEVENT
BEGIN:VTIMEZONE
TZID:America/Kentucky/Louisville
X-LIC-LOCATION:America/Kentucky/Louisville
BEGIN:DAYLIGHT
DTSTART:20260308T030000
TZOFFSETFROM:-0500
TZOFFSETTO:-0400
TZNAME:EDT
END:DAYLIGHT
END:VTIMEZONE
END:VCALENDAR