BEGIN:VCALENDAR
VERSION:2.0
PRODID:-//wp-events-plugin.com//7.2.3.1//EN
BEGIN:VEVENT
UID:9182@visitlebanonky.com
DTSTART;TZID=America/Kentucky/Louisville:20260524T140000
DTEND;TZID=America/Kentucky/Louisville:20260524T160000
DTSTAMP:20260410T193501Z
URL:https://visitlebanonky.com/events/american-legion-jim-bob-moore-post-4
 9-memorial-day-ceremony/
SUMMARY:American Legion Jim Bob Moore Post 49 Memorial Day Ceremony
DESCRIPTION:Join us on Sunday May 24  from 2 -4 p.m. for the American Legio
 n Jim Bob Moore Post 49 Memorial Day Ceremony at the Marion County Event C
 enter & Sportsplex. 
ATTACH;FMTTYPE=image/jpeg:https://visitlebanonky.com/wp-content/uploads/20
 26/04/memorial-day.jpg
CATEGORIES:Community
LOCATION:Marion County Event Center and Sportsplex\, 101 Independence Drive
  \, LEBANON\, KY\, 40033\, Marion County\, United States
X-APPLE-STRUCTURED-LOCATION;VALUE=URI;X-ADDRESS=101 Independence Drive \, L
 EBANON\, KY\, 40033\, Marion County\, United States;X-APPLE-RADIUS=100;X-T
 ITLE=Marion County Event Center and Sportsplex:geo:0,0
END:VEVENT
BEGIN:VTIMEZONE
TZID:America/Kentucky/Louisville
X-LIC-LOCATION:America/Kentucky/Louisville
BEGIN:DAYLIGHT
DTSTART:20260308T030000
TZOFFSETFROM:-0500
TZOFFSETTO:-0400
TZNAME:EDT
END:DAYLIGHT
END:VTIMEZONE
END:VCALENDAR