BEGIN:VCALENDAR
VERSION:2.0
PRODID:-//wp-events-plugin.com//7.2.3.1//EN
BEGIN:VEVENT
UID:7835@visitlebanonky.com
DTSTART:20250801T000000Z
DTEND:20250802T000000Z
DTSTAMP:20250730T204736Z
URL:https://visitlebanonky.com/events/american-legion-jim-bob-moore-post-4
 9/
SUMMARY:American Legion Jim Bob Moore Post 49
DESCRIPTION:American Legion Jim Bob Moore Post 49 Lebanon\, KY\nJoin us thi
 s weekend! On Friday\, we’re hosting Southern Boyz LLC starting at 5 unt
 il whenever. Then on Saturday\, come enjoy PJ's Swirl & Twirl from 4 until
  whenever.
CATEGORIES:Community
LOCATION:Jim Bob Moore American Legion Post 49\, 549 W Main Street\, Lebano
 n\, Kentucky\, 40033\, Marion County\, United States
GEO:37.564607;-85.264132
X-APPLE-STRUCTURED-LOCATION;VALUE=URI;X-ADDRESS=549 W Main Street\, Lebanon
 \, Kentucky\, 40033\, Marion County\, United States;X-APPLE-RADIUS=100;X-T
 ITLE=Jim Bob Moore American Legion Post 49:geo:37.564607,-85.264132
END:VEVENT
END:VCALENDAR