BEGIN:VCALENDAR
VERSION:2.0
PRODID:-//wp-events-plugin.com//7.2.3.1//EN
BEGIN:VEVENT
UID:5941@visitlebanonky.com
DTSTART;TZID=America/Kentucky/Louisville:20240803T130000
DTEND;TZID=America/Kentucky/Louisville:20240803T170000
DTSTAMP:20240725T001310Z
URL:https://visitlebanonky.com/events/american-legion-post-49-player-appre
 ciation-day/
SUMMARY:American Legion Post 49 Player Appreciation Day
DESCRIPTION:We will have Mad Hatters cafe & more food trucks plus Good Budd
 ies brewery truck there. Come out and have a good time R Player Appreciati
 on Day on Saturday August 3 from 1-5 p.m. Food\, Fun & Prizes! 
ATTACH;FMTTYPE=image/jpeg:https://visitlebanonky.com/wp-content/uploads/20
 24/07/american-legion.jpg
CATEGORIES:Community
LOCATION:American Legion Post 49\, 541 W Main St\, Lebanon\, Kentucky\, 400
 33\, Marion County\, United States
GEO:37.564623;-85.264089
X-APPLE-STRUCTURED-LOCATION;VALUE=URI;X-ADDRESS=541 W Main St\, Lebanon\, K
 entucky\, 40033\, Marion County\, United States;X-APPLE-RADIUS=100;X-TITLE
 =American Legion Post 49:geo:37.564623,-85.264089
END:VEVENT
BEGIN:VTIMEZONE
TZID:America/Kentucky/Louisville
X-LIC-LOCATION:America/Kentucky/Louisville
BEGIN:DAYLIGHT
DTSTART:20240310T030000
TZOFFSETFROM:-0500
TZOFFSETTO:-0400
TZNAME:EDT
END:DAYLIGHT
END:VTIMEZONE
END:VCALENDAR