BEGIN:VCALENDAR
VERSION:2.0
PRODID:-//wp-events-plugin.com//7.2.3.1//EN
BEGIN:VEVENT
UID:8242@visitlebanonky.com
DTSTART;TZID=America/Kentucky/Louisville:20260122T130000
DTEND;TZID=America/Kentucky/Louisville:20260122T180000
DTSTAMP:20251105T200518Z
URL:https://visitlebanonky.com/events/american-red-cross-blood-drive-10/
SUMMARY:American Red Cross Blood Drive
DESCRIPTION:You can use this link to make an appointment or view other upco
 ming blood drives HERE\n \n\nBlood: The most common type of donation\, dur
 ing which approximately a pint of 'whole blood' is given. This type of blo
 od donation usually takes about an hour.\nPower Red: A Power Red donation 
 collects the red cells but returns most of the plasma and platelets to the
  donor. These donors must meet specific eligibility requirements and have 
 type A Neg\, B Neg\, or O blood.
ATTACH;FMTTYPE=image/jpeg:https://visitlebanonky.com/wp-content/uploads/20
 22/11/red-cross-2.png
CATEGORIES:Community
LOCATION:Loretto City Hall\, 72 School Drive\, Loretto\, Kentucky\, 40037\,
  Marion County\, United States
GEO:37.63671;-85.405202
X-APPLE-STRUCTURED-LOCATION;VALUE=URI;X-ADDRESS=72 School Drive\, Loretto\,
  Kentucky\, 40037\, Marion County\, United States;X-APPLE-RADIUS=100;X-TIT
 LE=Loretto City Hall:geo:37.63671,-85.405202
END:VEVENT
BEGIN:VTIMEZONE
TZID:America/Kentucky/Louisville
X-LIC-LOCATION:America/Kentucky/Louisville
BEGIN:STANDARD
DTSTART:20251102T010000
TZOFFSETFROM:-0400
TZOFFSETTO:-0500
TZNAME:EST
END:STANDARD
END:VTIMEZONE
END:VCALENDAR