BEGIN:VCALENDAR
VERSION:2.0
PRODID:-//wp-events-plugin.com//7.2.3.1//EN
BEGIN:VEVENT
UID:6600@visitlebanonky.com
DTSTART;TZID=America/Kentucky/Louisville:20250515T130000
DTEND;TZID=America/Kentucky/Louisville:20250515T180000
DTSTAMP:20241211T232451Z
URL:https://visitlebanonky.com/events/american-red-cross-blood-drive-39/
SUMMARY:American Red Cross Blood Drive
DESCRIPTION:You can use this link to make an appointment or view other upco
 ming blood drives.\nhttps://www.redcrossblood.org/give.html/drive-results?
 order=DATE&amp\;range=10&amp\;zipSponsor=40033\n\nBlood: The most common t
 ype of donation\, during which approximately a pint of 'whole blood' is gi
 ven. This type of blood donation usually takes about an hour.\nPower Red: 
 A Power Red donation collects the red cells but returns most of the plasma
  and platelets to the donor. These donors must meet specific eligibility r
 equirements and have type A Neg\, B Neg\, or O blood.
ATTACH;FMTTYPE=image/jpeg:https://visitlebanonky.com/wp-content/uploads/20
 22/11/red-cross-2.png
CATEGORIES:Community
LOCATION:Loretto City Hall\, 72 School Drive\, Loretto\, Kentucky\, 40037\,
  Marion County\, United States
GEO:37.63671;-85.405202
X-APPLE-STRUCTURED-LOCATION;VALUE=URI;X-ADDRESS=72 School Drive\, Loretto\,
  Kentucky\, 40037\, Marion County\, United States;X-APPLE-RADIUS=100;X-TIT
 LE=Loretto City Hall:geo:37.63671,-85.405202
END:VEVENT
BEGIN:VTIMEZONE
TZID:America/Kentucky/Louisville
X-LIC-LOCATION:America/Kentucky/Louisville
BEGIN:DAYLIGHT
DTSTART:20250309T030000
TZOFFSETFROM:-0500
TZOFFSETTO:-0400
TZNAME:EDT
END:DAYLIGHT
END:VTIMEZONE
END:VCALENDAR