BEGIN:VCALENDAR
VERSION:2.0
PRODID:-//wp-events-plugin.com//7.2.3.1//EN
BEGIN:VEVENT
UID:6602@visitlebanonky.com
DTSTART;TZID=America/Kentucky/Louisville:20250325T130000
DTEND;TZID=America/Kentucky/Louisville:20250325T180000
DTSTAMP:20241211T233523Z
URL:https://visitlebanonky.com/events/american-red-cross-blood-drive-41/
SUMMARY:American Red Cross Blood Drive
DESCRIPTION:Upcoming Blood Drives. Click to make an appointment. https://ww
 w.redcrossblood.org/give.html/drive-results?order=DATE&amp\;range=10&amp\;
 zipSponsor=40033\n \nPower Red Blood\nPower Red: A Power Red donation coll
 ects the red cells but returns most of the plasma and platelets to the don
 or. These donors must meet specific eligibility requirements and have type
  A Neg\, B Neg\, or O blood.\nBlood: The most common type of donation\, du
 ring which approximately a pint of 'whole blood' is given. This type of bl
 ood donation usually takes about an hour.\n 
ATTACH;FMTTYPE=image/jpeg:https://visitlebanonky.com/wp-content/uploads/20
 22/11/red-cross.png
CATEGORIES:Community
LOCATION:St. Augustine Catholic Church\, 235 S. Spalding Ave.\, Lebanon\, K
 entucky\, 40033\, Marion County\, United States
GEO:37.568386;-85.251286
X-APPLE-STRUCTURED-LOCATION;VALUE=URI;X-ADDRESS=235 S. Spalding Ave.\, Leba
 non\, Kentucky\, 40033\, Marion County\, United States;X-APPLE-RADIUS=100;
 X-TITLE=St. Augustine Catholic Church:geo:37.568386,-85.251286
END:VEVENT
BEGIN:VTIMEZONE
TZID:America/Kentucky/Louisville
X-LIC-LOCATION:America/Kentucky/Louisville
BEGIN:DAYLIGHT
DTSTART:20250309T030000
TZOFFSETFROM:-0500
TZOFFSETTO:-0400
TZNAME:EDT
END:DAYLIGHT
END:VTIMEZONE
END:VCALENDAR