BEGIN:VCALENDAR
VERSION:2.0
PRODID:-//wp-events-plugin.com//7.2.3.1//EN
BEGIN:VEVENT
UID:6605@visitlebanonky.com
DTSTART;TZID=America/Kentucky/Louisville:20250406T080000
DTEND;TZID=America/Kentucky/Louisville:20250406T130000
DTSTAMP:20241211T233625Z
URL:https://visitlebanonky.com/events/american-red-cross-blood-drive-44/
SUMMARY:American Red Cross Blood Drive
DESCRIPTION:You can use this link to make an appointment or view other upco
 ming blood drives. \nhttps://www.redcrossblood.org/give.html/drive-results
 ?order=DATE&amp\;range=10&amp\;zipSponsor=40033\n \n\nPower Red: A Power R
 ed donation collects the red cells but returns most of the plasma and plat
 elets to the donor. These donors must meet specific eligibility requiremen
 ts and have type A Neg\, B Neg\, or O blood.\nBlood: The most common type 
 of donation\, during which approximately a pint of 'whole blood' is given.
  This type of blood donation usually takes about an hour.\n\n 
ATTACH;FMTTYPE=image/jpeg:https://visitlebanonky.com/wp-content/uploads/20
 22/11/red-cross-1.png
CATEGORIES:Community
LOCATION:St. Charles Catholic Church\, 675 Highway 327\, Lebanon\, Kentucky
 \, 40033\, Marion County\, United States
GEO:37.594439;-85.343667
X-APPLE-STRUCTURED-LOCATION;VALUE=URI;X-ADDRESS=675 Highway 327\, Lebanon\,
  Kentucky\, 40033\, Marion County\, United States;X-APPLE-RADIUS=100;X-TIT
 LE=St. Charles Catholic Church:geo:37.594439,-85.343667
END:VEVENT
BEGIN:VTIMEZONE
TZID:America/Kentucky/Louisville
X-LIC-LOCATION:America/Kentucky/Louisville
BEGIN:DAYLIGHT
DTSTART:20250309T030000
TZOFFSETFROM:-0500
TZOFFSETTO:-0400
TZNAME:EDT
END:DAYLIGHT
END:VTIMEZONE
END:VCALENDAR