BEGIN:VCALENDAR
VERSION:2.0
PRODID:-//wp-events-plugin.com//7.2.3.1//EN
BEGIN:VEVENT
UID:6606@visitlebanonky.com
DTSTART;TZID=America/Kentucky/Louisville:20241226T140000
DTEND;TZID=America/Kentucky/Louisville:20241226T180000
DTSTAMP:20241211T233215Z
URL:https://visitlebanonky.com/events/american-red-cross-blood-drive-45/
SUMMARY:American Red Cross Blood Drive
DESCRIPTION:You can use this link to make an appointment or view other upco
 ming blood drives. \nhttps://www.redcrossblood.org/give.html/drive-results
 ?order=DATE&amp\;range=10&amp\;zipSponsor=40033\n\n\n\n 
ATTACH;FMTTYPE=image/jpeg:https://visitlebanonky.com/wp-content/uploads/20
 22/11/red-cross-1.png
CATEGORIES:Community
LOCATION:Bethel Christian Fellowship Church\, 1347 Gravel Switch Road\, Gra
 vel Switch\, Kentucky\, 40328\, Marion County\, United States
GEO:37.571479;-85.052213
X-APPLE-STRUCTURED-LOCATION;VALUE=URI;X-ADDRESS=1347 Gravel Switch Road\, G
 ravel Switch\, Kentucky\, 40328\, Marion County\, United States;X-APPLE-RA
 DIUS=100;X-TITLE=Bethel Christian Fellowship Church:geo:37.571479,-85.0522
 13
END:VEVENT
BEGIN:VTIMEZONE
TZID:America/Kentucky/Louisville
X-LIC-LOCATION:America/Kentucky/Louisville
BEGIN:STANDARD
DTSTART:20241103T010000
TZOFFSETFROM:-0400
TZOFFSETTO:-0500
TZNAME:EST
END:STANDARD
END:VTIMEZONE
END:VCALENDAR