BEGIN:VCALENDAR
VERSION:2.0
PRODID:-//wp-events-plugin.com//7.2.3.1//EN
BEGIN:VEVENT
UID:9207@visitlebanonky.com
DTSTART;TZID=America/Kentucky/Louisville:20260922T130000
DTEND;TZID=America/Kentucky/Louisville:20260922T180000
DTSTAMP:20260417T203014Z
URL:https://visitlebanonky.com/events/american-red-cross-blood-drive-48/
SUMMARY:American Red Cross Blood Drive
DESCRIPTION:You can use this link HERE to make an appointment or view other
  upcoming blood drives.\n\n\nBlood: The most common type of donation\, dur
 ing which approximately a pint of 'whole blood' is given. This type of blo
 od donation usually takes about an hour.\nPower Red: A Power Red donation 
 collects the red cells but returns most of the plasma and platelets to the
  donor. These donors must meet specific eligibility requirements and have 
 type A Neg\, B Neg\, or O blood.\n 
ATTACH;FMTTYPE=image/jpeg:https://visitlebanonky.com/wp-content/uploads/20
 22/11/red-cross.png
CATEGORIES:Community
LOCATION:St. Augustine Catholic Church\, 235 S. Spalding Ave.\, Lebanon\, K
 entucky\, 40033\, Marion County\, United States
GEO:37.568386;-85.251286
X-APPLE-STRUCTURED-LOCATION;VALUE=URI;X-ADDRESS=235 S. Spalding Ave.\, Leba
 non\, Kentucky\, 40033\, Marion County\, United States;X-APPLE-RADIUS=100;
 X-TITLE=St. Augustine Catholic Church:geo:37.568386,-85.251286
END:VEVENT
BEGIN:VTIMEZONE
TZID:America/Kentucky/Louisville
X-LIC-LOCATION:America/Kentucky/Louisville
BEGIN:DAYLIGHT
DTSTART:20260308T030000
TZOFFSETFROM:-0500
TZOFFSETTO:-0400
TZNAME:EDT
END:DAYLIGHT
END:VTIMEZONE
END:VCALENDAR