BEGIN:VCALENDAR
VERSION:2.0
PRODID:-//wp-events-plugin.com//7.2.3.1//EN
BEGIN:VEVENT
UID:9208@visitlebanonky.com
DTSTART;TZID=America/Kentucky/Louisville:20261004T080000
DTEND;TZID=America/Kentucky/Louisville:20261004T130000
DTSTAMP:20260417T203051Z
URL:https://visitlebanonky.com/events/american-red-cross-blood-drive-49/
SUMMARY:American Red Cross Blood Drive
DESCRIPTION:You can use this link to make an appointment or view other upco
 ming blood drives HERE\n \n\nBlood: The most common type of donation\, dur
 ing which approximately a pint of 'whole blood' is given. This type of blo
 od donation usually takes about an hour.\nPower Red: A Power Red donation 
 collects the red cells but returns most of the plasma and platelets to the
  donor. These donors must meet specific eligibility requirements and have 
 type A Neg\, B Neg\, or O blood.\n\n \n\n 
ATTACH;FMTTYPE=image/jpeg:https://visitlebanonky.com/wp-content/uploads/20
 25/06/st-charles-blood-drive-e1749162821767.jpg
CATEGORIES:Community
LOCATION:St. Charles Catholic Church\, 675 Highway 327\, Lebanon\, Kentucky
 \, 40033\, Marion County\, United States
GEO:37.594439;-85.343667
X-APPLE-STRUCTURED-LOCATION;VALUE=URI;X-ADDRESS=675 Highway 327\, Lebanon\,
  Kentucky\, 40033\, Marion County\, United States;X-APPLE-RADIUS=100;X-TIT
 LE=St. Charles Catholic Church:geo:37.594439,-85.343667
END:VEVENT
BEGIN:VTIMEZONE
TZID:America/Kentucky/Louisville
X-LIC-LOCATION:America/Kentucky/Louisville
BEGIN:DAYLIGHT
DTSTART:20260308T030000
TZOFFSETFROM:-0500
TZOFFSETTO:-0400
TZNAME:EDT
END:DAYLIGHT
END:VTIMEZONE
END:VCALENDAR