BEGIN:VCALENDAR
VERSION:2.0
PRODID:-//wp-events-plugin.com//7.2.3.1//EN
BEGIN:VEVENT
UID:8625@visitlebanonky.com
DTSTART;TZID=America/Kentucky/Louisville:20260212T180000
DTEND;TZID=America/Kentucky/Louisville:20260212T200000
DTSTAMP:20260113T191305Z
URL:https://visitlebanonky.com/events/an-evening-of-connection-comfort-rsv
 p-by-january-27/
SUMMARY:An Evening of Connection & Comfort - RSVP by January 27
DESCRIPTION:To celebrate 25 years in practice\, Winebrenner Financial is ho
 sting An Evening of Connection & Comfort – Widows & Widowers Dinner. Los
 s changes everything—and no one should have to walk through it alone. Th
 is February\, we are hosting a small\, intimate dinner for widows and wido
 wers who have experienced the loss of a spouse—whether recently or years
  ago. This evening is simply about connection\, comfort\, and being among 
 others who understand.\n✨ No agenda\n✨ No expectations\n✨ Just a war
 m meal\, gentle conversation\, and community\n📅 Date: Thursday\, Februa
 ry 12th\n🕕 Time: 6:00–8:00 PM\n📍 Location: Rosewood Bar & Grill\n
 🍽 Dinner provided\nIf you or someone you know may find comfort in this 
 gathering\, we would be honored to have you join us. Space is limited to k
 eep the evening meaningful and relaxed.\n📩 Please message us or call ou
 r office to RSVP by 1/27/26 contact Erin at 270-699-9600\nThere is no time
 line on grief. You are welcome here.
CATEGORIES:Community
LOCATION:Rosewood Bar &amp\; Grill Banquet Room\, 520 Fairway Dr.\, Lebanon
 \, KY/Marion\, 40033\, Marion County\, United States
X-APPLE-STRUCTURED-LOCATION;VALUE=URI;X-ADDRESS=520 Fairway Dr.\, Lebanon\,
  KY/Marion\, 40033\, Marion County\, United States;X-APPLE-RADIUS=100;X-TI
 TLE=Rosewood Bar & Grill Banquet Room:geo:0,0
END:VEVENT
BEGIN:VTIMEZONE
TZID:America/Kentucky/Louisville
X-LIC-LOCATION:America/Kentucky/Louisville
BEGIN:STANDARD
DTSTART:20251102T010000
TZOFFSETFROM:-0400
TZOFFSETTO:-0500
TZNAME:EST
END:STANDARD
END:VTIMEZONE
END:VCALENDAR