BEGIN:VCALENDAR
VERSION:2.0
PRODID:-//wp-events-plugin.com//7.2.3.1//EN
BEGIN:VEVENT
UID:9160@visitlebanonky.com
DTSTART;TZID=America/Kentucky/Louisville:20260425T190000
DTEND;TZID=America/Kentucky/Louisville:20260425T203000
DTSTAMP:20260401T205200Z
URL:https://visitlebanonky.com/events/an-evening-with-abraham-lincoln/
SUMMARY:An Evening With Abraham Lincoln
DESCRIPTION:As part of the Boyle County America's 250 events in 2026\, "Hon
 est Abe" Lincoln will be coming to the Forkland Community Center for "An E
 vening With Abraham Lincoln". Lincoln presenter Jacob Truax will deliver a
  75 minute solo performance "that illuminates one of America's most iconic
  leaders through humor\, humanity\, and unforgettable oratory. Event is fr
 ee\, but seating will be limited to the building's capacity.\nYou can find
  this event on Facebook HERE\n 
ATTACH;FMTTYPE=image/jpeg:https://visitlebanonky.com/wp-content/uploads/20
 26/04/abe-lincoln.jpg
CATEGORIES:Community
LOCATION:Forkland Community Center\, 16479 Forkland Rd.\, Gravel Switch\, K
 Y/Boyle\, 40328\, Boyle County\, United States
X-APPLE-STRUCTURED-LOCATION;VALUE=URI;X-ADDRESS=16479 Forkland Rd.\, Gravel
  Switch\, KY/Boyle\, 40328\, Boyle County\, United States;X-APPLE-RADIUS=1
 00;X-TITLE=Forkland Community Center:geo:0,0
END:VEVENT
BEGIN:VTIMEZONE
TZID:America/Kentucky/Louisville
X-LIC-LOCATION:America/Kentucky/Louisville
BEGIN:DAYLIGHT
DTSTART:20260308T030000
TZOFFSETFROM:-0500
TZOFFSETTO:-0400
TZNAME:EDT
END:DAYLIGHT
END:VTIMEZONE
END:VCALENDAR