BEGIN:VCALENDAR
VERSION:2.0
PRODID:-//wp-events-plugin.com//7.2.3.1//EN
BEGIN:VEVENT
UID:6292@visitlebanonky.com
DTSTART;TZID=America/Kentucky/Louisville:20241121T190000
DTEND;TZID=America/Kentucky/Louisville:20241121T210000
DTSTAMP:20241017T214100Z
URL:https://visitlebanonky.com/events/an-evening-with-miss-kentucky-and-mi
 ss-kentuckys-teen/
SUMMARY:An Evening With Miss Kentucky and Miss Kentucky's Teen
DESCRIPTION:Join us for an evening with Miss Kentucky\, Chapel Tinius\, and
  Miss Kentucky's Teen Mallory Jones. Chapel will mesmerize the audience wi
 th her fiddle and her harp performance\, while Mallory will display her vo
 cal and guitar talents. We will have a charcuterie spread as well as beer 
 and cocktails available for purchase. This event will help to support the 
 American Heart Association.
ATTACH;FMTTYPE=image/jpeg:https://visitlebanonky.com/wp-content/uploads/20
 24/10/miss-ky.jpg
CATEGORIES:Official
LOCATION:Kentucky Classic Arts Blackbox Club\, 237 North Spalding Avenue - 
 Downstairs\, Lebanon\, Kentucky\, 40033\, Marion County\, United States
X-APPLE-STRUCTURED-LOCATION;VALUE=URI;X-ADDRESS=237 North Spalding Avenue -
  Downstairs\, Lebanon\, Kentucky\, 40033\, Marion County\, United States;X
 -APPLE-RADIUS=100;X-TITLE=Kentucky Classic Arts Blackbox Club:geo:0,0
END:VEVENT
BEGIN:VTIMEZONE
TZID:America/Kentucky/Louisville
X-LIC-LOCATION:America/Kentucky/Louisville
BEGIN:STANDARD
DTSTART:20241103T010000
TZOFFSETFROM:-0400
TZOFFSETTO:-0500
TZNAME:EST
END:STANDARD
END:VTIMEZONE
END:VCALENDAR