BEGIN:VCALENDAR
VERSION:2.0
PRODID:-//wp-events-plugin.com//7.2.3.1//EN
BEGIN:VEVENT
UID:9061@visitlebanonky.com
DTSTART;TZID=America/Kentucky/Louisville:20260613T000000
DTEND;TZID=America/Kentucky/Louisville:20260613T000000
DTSTAMP:20260317T045415Z
URL:https://visitlebanonky.com/events/annual-duck-race-at-the-river-old-mi
 ll-day-event/
SUMMARY:Annual Duck Race at the River - Old Mill Day Event
DESCRIPTION:From their Facebook page HERE\n\nIt’s that time again! With a
 nother Old Mill Days just around the corner we have our annual duck derby 
 tickets now available. Tickets can be purchased at the Bradfordsville Scho
 ol Building during basketball games or directly from committee members. Fo
 r any questions please feel free to message us.
ATTACH;FMTTYPE=image/jpeg:https://visitlebanonky.com/wp-content/uploads/20
 26/03/DUCK-DERBY.jpg
CATEGORIES:Community
LOCATION:Bradfordsville\, Anywhere \, Bradfordsville\, KY/Marion\, 40009\, 
 Marion County\, United States
X-APPLE-STRUCTURED-LOCATION;VALUE=URI;X-ADDRESS=Anywhere \, Bradfordsville\
 , KY/Marion\, 40009\, Marion County\, United States;X-APPLE-RADIUS=100;X-T
 ITLE=Bradfordsville:geo:0,0
END:VEVENT
BEGIN:VTIMEZONE
TZID:America/Kentucky/Louisville
X-LIC-LOCATION:America/Kentucky/Louisville
BEGIN:DAYLIGHT
DTSTART:20260308T030000
TZOFFSETFROM:-0500
TZOFFSETTO:-0400
TZNAME:EDT
END:DAYLIGHT
END:VTIMEZONE
END:VCALENDAR