BEGIN:VCALENDAR
VERSION:2.0
PRODID:-//wp-events-plugin.com//7.2.3.1//EN
BEGIN:VEVENT
UID:8102@visitlebanonky.com
DTSTART;TZID=America/Kentucky/Louisville:20251122T000000
DTEND;TZID=America/Kentucky/Louisville:20251122T000000
DTSTAMP:20251105T205252Z
URL:https://visitlebanonky.com/events/annual-loretto-community-thanksgivin
 g-dinner/
SUMMARY:Annual Loretto Community Thanksgiving Dinner
DESCRIPTION:We are excited to announce that the annual Loretto Community Th
 anksgiving Dinner will be November 22\, 2025 at 12:00 pm. We're cooking ro
 ughly 825 meals\; turkey\, mashed taters\, dressing\, gravy\, green beans\
 , a roll\, and dessert. The dinner will be held again at Loretto City Hall
  for dine-in or carry-out. We'll serve till we run out of food. \nThis mea
 l is for everyone. It doesn't matter if you're the wealthiest\, struggling
 \, or you would like to take a meal to someone else. That is what this min
 istry is all about. This meal is to show the love of Jesus to all\, for al
 l to have dinner together in fellowship\, and to let you know someone care
 s about you...especially Jesus. This is how Taste and See Ministry operate
 s. We deliver meals to the physically hungry and spiritually hungry. To th
 ose whose bellies are empty or maybe feeling empty inside. To the lonely a
 nd those who just need someone to care about them. Most of all to show the
  love of Jesus and lead as many into salvation as possible to grow the Kin
 gdom of God. \nOne of the greatest testimonies from last year was that the
  majority of the 544 to-go meals were being delivered to others. People we
 re delivering anywhere from 1 to 15 meals to people that were on their hea
 rts to do so for. God used each and every one who delivered a meal to oper
 ate this ministry! All glory to God! When we walk according to His will in
  ministry\, He shows up and blesses it like only He can do! \nLast year wa
 s an absolute success! No one was turned away! There was just enough to fe
 ed 614 people. This year we'll be praying for everyone that comes and want
 s prayer. We'll be praying for healing\, encouragement\, prosperity\, and 
 salvations. We'll have Bibles\, New Testaments\, Kids Gospels\, and other 
 books for all who are spiritually hungry for God's Living Word\, and for t
 hose that want to \n"Taste and See that the Lord is good!"\nTo sow into th
 e ministry you can do so by donating to our Loretto Foodland account  #502
  that goes towards the grocery bill. You can call to pay by card and of co
 urse pay in person in the store. You can also give directly to the ministr
 y by going to: \nWebsite HERE:   \nPayPal: Taste and See Ministry\, Inc \n
 Venmo: HERE  \nTithely: Taste and See Ministry\, Inc \nMail a check: \nTas
 te and See Ministry \n2125 Manton Rd. \nLoretto\, KY 40037\nAny businesses
  that would like to donate desserts are greatly appreciated. Please reach 
 out by comment on this post or in Messenger. \nFor God is the one who prov
 ides seed for the farmer and then bread to eat. In the same way\, he will 
 provide and increase your resources and then produce a great harvest of ge
 nerosity in you.\nYes\, you will be enriched in every way so that you can 
 always be generous. And when we take your gifts to those who need them\, t
 hey will thank God. ~2 Corinthians 9:10-11
ATTACH;FMTTYPE=image/jpeg:https://visitlebanonky.com/wp-content/uploads/20
 25/10/taste-and-see-ministry.jpg
CATEGORIES:Community
LOCATION:Loretto City Hall\, 72 School Drive\, Loretto\, Kentucky\, 40037\,
  Marion County\, United States
GEO:37.63671;-85.405202
X-APPLE-STRUCTURED-LOCATION;VALUE=URI;X-ADDRESS=72 School Drive\, Loretto\,
  Kentucky\, 40037\, Marion County\, United States;X-APPLE-RADIUS=100;X-TIT
 LE=Loretto City Hall:geo:37.63671,-85.405202
END:VEVENT
BEGIN:VTIMEZONE
TZID:America/Kentucky/Louisville
X-LIC-LOCATION:America/Kentucky/Louisville
BEGIN:STANDARD
DTSTART:20251102T010000
TZOFFSETFROM:-0400
TZOFFSETTO:-0500
TZNAME:EST
END:STANDARD
END:VTIMEZONE
END:VCALENDAR