BEGIN:VCALENDAR
VERSION:2.0
PRODID:-//wp-events-plugin.com//7.2.3.1//EN
BEGIN:VEVENT
UID:8325@visitlebanonky.com
DTSTART;TZID=America/Kentucky/Louisville:20251114T170000
DTEND;TZID=America/Kentucky/Louisville:20251114T180000
DTSTAMP:20251114T012419Z
URL:https://visitlebanonky.com/events/anthony-rakes-memorial-service/
SUMMARY:Anthony Rakes Memorial Service
DESCRIPTION:November 14\, 2012. A date that still haunts the minds of so ma
 ny in our small community. A night of tragedy. A night that first responde
 rs got the call that we all fear and a call that none of us want to hear 
 “Officer Down”.\nAs the date draws near we ask for our communities hel
 p. We ask that you take a small amount of time out of your day and remembe
 r Deputy Sheriff Carl Anthony Rakes. A Deputy known well in his community.
  Known for his friendly face\, his willingness to assist in any way he cou
 ld\, and for his love of serving and protecting the community that he call
 ed home. Deputy Rakes made the ultimate sacrifice that night and upheld hi
 s oath to Serve and protect the people of Marion County.\nThough the years
  have passed and Marion County Sheriffs Office is constantly changing\, we
  can not and will not fail to remember and recognize our fallen brother an
 d friend Carl Anthony Rakes who was known then and will forever be known a
 s “UNIT 1204”\nOn Friday November 14\, 2025 at 5:00pm there will be a 
 candlelight service held at the David R Hourigan building to honour the me
 mory and sacrifice made by Deputy Rakes. We welcome anyone who wishes to a
 ttend. We ask that this post be shared so that we can reach all that wish 
 to attend and so we can all take time to remember the sacrifice he made fo
 r the community and the people that he loved so deeply.
ATTACH;FMTTYPE=image/jpeg:https://visitlebanonky.com/wp-content/uploads/20
 25/11/anthony-rakes.jpg
CATEGORIES:Community
LOCATION:David R. Hourigan Government Building\, 223 N. Spalding Avenue \, 
 Lebanon\, KY/MARION\, 40033\, Marion County\, United States
X-APPLE-STRUCTURED-LOCATION;VALUE=URI;X-ADDRESS=223 N. Spalding Avenue \, L
 ebanon\, KY/MARION\, 40033\, Marion County\, United States;X-APPLE-RADIUS=
 100;X-TITLE=David R. Hourigan Government Building:geo:0,0
END:VEVENT
BEGIN:VTIMEZONE
TZID:America/Kentucky/Louisville
X-LIC-LOCATION:America/Kentucky/Louisville
BEGIN:STANDARD
DTSTART:20251102T010000
TZOFFSETFROM:-0400
TZOFFSETTO:-0500
TZNAME:EST
END:STANDARD
END:VTIMEZONE
END:VCALENDAR