BEGIN:VCALENDAR
VERSION:2.0
PRODID:-//wp-events-plugin.com//7.2.3.1//EN
BEGIN:VEVENT
UID:9141@visitlebanonky.com
DTSTART;TZID=America/Kentucky/Louisville:20260413T180000
DTEND;TZID=America/Kentucky/Louisville:20260413T200000
DTSTAMP:20260410T004621Z
URL:https://visitlebanonky.com/events/auditions-for-1776-the-musical-3/
SUMMARY:Auditions for 1776 The Musical
DESCRIPTION:you can find this event on Facebook HERE\nAll Roles Open - Need
  25 Men ( Non-Singing and Singing available)and 2 Women (singing). See Rol
 es HERE  \nIn-person auditions:\nTuesday\, March 31@ 6pm or Monday\, April
  6 at 6pm\nand Monday\, April 13 at 6pm (if needed).\nAuditions will consi
 st of reading from the script and those desiring vocal roles are asked to 
 sing one or two cuts from the song cuts listed on the Facebook event page.
 \nRehearsals on a block schedule according to availability - only come whe
 n needed for a scene.\n\nPerformances: June 25\, 26\, 27 and July 2\, 3\, 
 & 4.\nQuestions? Call or Text 270-402-2196\nVideo Auditions accepted Until
  April 10 at director@kentuckyclassicarts.com.\nPlease submit a 30 second 
 monologue and a cut from one of the following songs:\nJohn Adams - Piddle 
 Twiddle from :00-1:18\nVocal Track - https://www.youtube.com/watch?v=rGnhe
 PM45nY...\nKaraoke - https://www.youtube.com/watch?v=YBaSdidaMsI\nThomas J
 efferson - But Mr. Adams from 4:25-End\nVocal Track - https://www.youtube.
 com/watch?v=BVuPC2gpA9w...\nKaraoke - https://www.youtube.com/watch?v=9byu
 7giAzyE\nBenjamin Franklin - The Egg from :15-:55\nVocal Track - https://w
 ww.youtube.com/watch?v=grRxLdnRnZ4...\nKaraoke - https://www.youtube.com/w
 atch?v=rdVQYkT4n20\nMale Ensemble including Lee/Sherman/Livingston/Rutledg
 e - Lees of Old Virginia from :00-1:00\nVocal Track - https://www.youtube.
 com/watch?v=5W6A18GfW0M...\nKaraoke - https://www.youtube.com/watch?v=bwlS
 NexMvxI\nAbigail Adams - Yours Yours Yours from :00-1:12\nVocal Track - ht
 tps://www.youtube.com/watch?v=eN1Cep7m5ZQ...\nKaraoke - https://www.youtub
 e.com/watch?v=OMHsKZ9Be4E\nMartha Jefferson - He plays the violin from :00
 -1:06\nVocal Track - https://www.youtube.com/watch?v=VwBgaJWYi2o...\nKarao
 ke - https://www.youtube.com/watch?v=_w_XgMvxpis
ATTACH;FMTTYPE=image/jpeg:https://visitlebanonky.com/wp-content/uploads/20
 26/03/1776-the-musical.jpg
CATEGORIES:Community
LOCATION:Kentucky Classic ARTS at Centre Square\, 237 North Spalding Avenue
 \, Lebanon\, KY\, 40033\, United States
X-APPLE-STRUCTURED-LOCATION;VALUE=URI;X-ADDRESS=237 North Spalding Avenue\,
  Lebanon\, KY\, 40033\, United States;X-APPLE-RADIUS=100;X-TITLE=Kentucky 
 Classic ARTS at Centre Square:geo:0,0
END:VEVENT
BEGIN:VTIMEZONE
TZID:America/Kentucky/Louisville
X-LIC-LOCATION:America/Kentucky/Louisville
BEGIN:DAYLIGHT
DTSTART:20260308T030000
TZOFFSETFROM:-0500
TZOFFSETTO:-0400
TZNAME:EDT
END:DAYLIGHT
END:VTIMEZONE
END:VCALENDAR