BEGIN:VCALENDAR
VERSION:2.0
PRODID:-//wp-events-plugin.com//7.2.3.1//EN
BEGIN:VEVENT
UID:5952@visitlebanonky.com
DTSTART;TZID=America/Kentucky/Louisville:20240826T180000
DTEND;TZID=America/Kentucky/Louisville:20240827T203000
DTSTAMP:20240729T204203Z
URL:https://visitlebanonky.com/events/auditions-for-little-women-the-music
 al/
SUMMARY:Auditions for Little Women the Musical
DESCRIPTION:Christopher Columbus\, it's almost time for Little Women the Mu
 sical! Join us Aug. 26 & 27 from 6-8:30 pm for auditions for this beloved 
 classic story! We will be auditioning for adults (ages 16 & older!)\, with
  some select roles being cast with ages 12-16. This is going to be an asto
 nishing way to finish out 2024 here at Kentucky Classic Arts\, and we can'
 t to see you soon!\nFor more information visit our website: https://kentuc
 kyclassicarts.com/community-theatre/
ATTACH;FMTTYPE=image/jpeg:https://visitlebanonky.com/wp-content/uploads/20
 24/07/little-women.jpg
CATEGORIES:Official
LOCATION:Kentucky Classic ARTS at Centre Square\, 237 North Spalding Avenue
 \, Lebanon\, KY\, 40033\, United States
X-APPLE-STRUCTURED-LOCATION;VALUE=URI;X-ADDRESS=237 North Spalding Avenue\,
  Lebanon\, KY\, 40033\, United States;X-APPLE-RADIUS=100;X-TITLE=Kentucky 
 Classic ARTS at Centre Square:geo:0,0
END:VEVENT
BEGIN:VTIMEZONE
TZID:America/Kentucky/Louisville
X-LIC-LOCATION:America/Kentucky/Louisville
BEGIN:DAYLIGHT
DTSTART:20240310T030000
TZOFFSETFROM:-0500
TZOFFSETTO:-0400
TZNAME:EDT
END:DAYLIGHT
END:VTIMEZONE
END:VCALENDAR