BEGIN:VCALENDAR
VERSION:2.0
PRODID:-//wp-events-plugin.com//7.2.3.1//EN
BEGIN:VEVENT
UID:8952@visitlebanonky.com
DTSTART;TZID=America/Kentucky/Louisville:20260307T183000
DTEND;TZID=America/Kentucky/Louisville:20260308T203000
DTSTAMP:20260306T174408Z
URL:https://visitlebanonky.com/events/auditions-for-the-crucible/
SUMMARY:Auditions for the Crucible
DESCRIPTION:Auditions for The Crucible are March 7 & 8 at 6:30 PM\, and we
 ’re looking for lots of talent of all ages ready to step into one of the
  most gripping dramas ever written! The show will run June 5-7 and 12-14 a
 nd conclude our 2025/2026 season.\nVisit HERE for audition info\, characte
 r descriptions\, and details about video submissions.
ATTACH;FMTTYPE=image/jpeg:https://visitlebanonky.com/wp-content/uploads/20
 26/03/THE-CRUCIBLE-AUDITIONS.jpg
CATEGORIES:Official
LOCATION:Opera House/ Central Ky Theatre\, 124 W. Main St.\, Springfield\, 
 KY/ Washington\, 40069\, Washington County\, United States
X-APPLE-STRUCTURED-LOCATION;VALUE=URI;X-ADDRESS=124 W. Main St.\, Springfie
 ld\, KY/ Washington\, 40069\, Washington County\, United States;X-APPLE-RA
 DIUS=100;X-TITLE=Opera House/ Central Ky Theatre:geo:0,0
END:VEVENT
BEGIN:VTIMEZONE
TZID:America/Kentucky/Louisville
X-LIC-LOCATION:America/Kentucky/Louisville
BEGIN:STANDARD
DTSTART:20251102T010000
TZOFFSETFROM:-0400
TZOFFSETTO:-0500
TZNAME:EST
END:STANDARD
BEGIN:DAYLIGHT
DTSTART:20260308T030000
TZOFFSETFROM:-0500
TZOFFSETTO:-0400
TZNAME:EDT
END:DAYLIGHT
END:VTIMEZONE
END:VCALENDAR