BEGIN:VCALENDAR
VERSION:2.0
PRODID:-//wp-events-plugin.com//7.2.3.1//EN
BEGIN:VEVENT
UID:7837@visitlebanonky.com
DTSTART;TZID=America/Kentucky/Louisville:20250822T180000
DTEND;TZID=America/Kentucky/Louisville:20250822T190000
DTSTAMP:20250731T205815Z
URL:https://visitlebanonky.com/events/babysitting-classes-2025-08-22/
SUMMARY:Babysitting Classes
DESCRIPTION:We're doing our Babysitting classes again. Call the Marion Coun
 ty Extension Office to reserve a spot. Call 270-692-2421 to reserve your s
 pot. This is for ages 9-16\, and the only cost is $5 to get CPR certified.
  Classes will be held at MCPL at 6 p.m. on August 22 and 29\, and Septembe
 r 5 and 12.
ATTACH;FMTTYPE=image/jpeg:https://visitlebanonky.com/wp-content/uploads/20
 25/07/babysitting-classes.jpg
CATEGORIES:Community
LOCATION:Marion County Public Library\, 201 E Main St\, Lebanon\, KY/Marion
 \, 40033\, Marion County\, United States
X-APPLE-STRUCTURED-LOCATION;VALUE=URI;X-ADDRESS=201 E Main St\, Lebanon\, K
 Y/Marion\, 40033\, Marion County\, United States;X-APPLE-RADIUS=100;X-TITL
 E=Marion County Public Library:geo:0,0
END:VEVENT
BEGIN:VTIMEZONE
TZID:America/Kentucky/Louisville
X-LIC-LOCATION:America/Kentucky/Louisville
BEGIN:DAYLIGHT
DTSTART:20250309T030000
TZOFFSETFROM:-0500
TZOFFSETTO:-0400
TZNAME:EDT
END:DAYLIGHT
END:VTIMEZONE
END:VCALENDAR