BEGIN:VCALENDAR
VERSION:2.0
PRODID:-//wp-events-plugin.com//7.2.3.1//EN
BEGIN:VEVENT
UID:5961@visitlebanonky.com
DTSTART;TZID=America/Kentucky/Louisville:20240823T183000
DTEND;TZID=America/Kentucky/Louisville:20240823T203000
DTSTAMP:20240801T155516Z
URL:https://visitlebanonky.com/events/back-to-religion-bash/
SUMMARY:Back to Religion Bash
DESCRIPTION:Save the date:\nFriday\, August 23. St Charles/St Francis Xavie
 r will be having a Back to Religion Bash at St Charles Parish Hall 6:30 to
  8 p.m. This is our third year doing this and it is so much fun. Games\, f
 ood\, door prizes\, we even have Plinko!!! Come and meet your teachers!\nY
 ou can also register your child for Religion if you haven’t already done
  so. We welcome anyone to join our program\, Kindergarten through 7th grad
 e\, and also 8th grade Confirmation class. \nSo please come join us on the
  23rd!!\nThis year’s theme is Barnyard!!
CATEGORIES:Community
LOCATION:St. Charles Parish Hall\, 675 Highway 327\, Lebanon\, Kentucky\, 4
 0033\, Marion County\, United States
GEO:37.594439;-85.343667
X-APPLE-STRUCTURED-LOCATION;VALUE=URI;X-ADDRESS=675 Highway 327\, Lebanon\,
  Kentucky\, 40033\, Marion County\, United States;X-APPLE-RADIUS=100;X-TIT
 LE=St. Charles Parish Hall:geo:37.594439,-85.343667
END:VEVENT
BEGIN:VTIMEZONE
TZID:America/Kentucky/Louisville
X-LIC-LOCATION:America/Kentucky/Louisville
BEGIN:DAYLIGHT
DTSTART:20240310T030000
TZOFFSETFROM:-0500
TZOFFSETTO:-0400
TZNAME:EDT
END:DAYLIGHT
END:VTIMEZONE
END:VCALENDAR