BEGIN:VCALENDAR
VERSION:2.0
PRODID:-//wp-events-plugin.com//7.2.3.1//EN
BEGIN:VEVENT
UID:7827@visitlebanonky.com
DTSTART;TZID=America/Kentucky/Louisville:20250802T120000
DTEND;TZID=America/Kentucky/Louisville:20250802T140000
DTSTAMP:20250730T162903Z
URL:https://visitlebanonky.com/events/back-to-school-bash-at-be-known-salo
 n/
SUMMARY:Back to School Bash at Be Known Salon
DESCRIPTION:
ATTACH;FMTTYPE=image/jpeg:https://visitlebanonky.com/wp-content/uploads/20
 25/07/back-to-school-bash-be-known-salon.jpg
CATEGORIES:Community
LOCATION:Be Known Salon\, 116 Cemetery Road\, Lebanon\, Kentucky\, 40033\, 
 Marion County\, United States
GEO:37.556878;-85.272366
X-APPLE-STRUCTURED-LOCATION;VALUE=URI;X-ADDRESS=116 Cemetery Road\, Lebanon
 \, Kentucky\, 40033\, Marion County\, United States;X-APPLE-RADIUS=100;X-T
 ITLE=Be Known Salon:geo:37.556878,-85.272366
END:VEVENT
BEGIN:VTIMEZONE
TZID:America/Kentucky/Louisville
X-LIC-LOCATION:America/Kentucky/Louisville
BEGIN:DAYLIGHT
DTSTART:20250309T030000
TZOFFSETFROM:-0500
TZOFFSETTO:-0400
TZNAME:EDT
END:DAYLIGHT
END:VTIMEZONE
END:VCALENDAR