BEGIN:VCALENDAR
VERSION:2.0
PRODID:-//wp-events-plugin.com//7.2.3.1//EN
BEGIN:VEVENT
UID:7847@visitlebanonky.com
DTSTART;TZID=America/Kentucky/Louisville:20250810T140000
DTEND;TZID=America/Kentucky/Louisville:20250810T180000
DTSTAMP:20250804T190004Z
URL:https://visitlebanonky.com/events/back-to-school-bash-sponsored-by-leb
 anon-methodist-church/
SUMMARY:Back to School Bash Sponsored by Lebanon Methodist Church
DESCRIPTION:
ATTACH;FMTTYPE=image/jpeg:https://visitlebanonky.com/wp-content/uploads/20
 25/08/back-to-school-bash-swimming.jpg
CATEGORIES:Community
LOCATION:Lebanon Aquatic Center\, 525 Graham Memorial Drive\, Lebanon\, Ken
 tucky\, 40033\, Marion County\, United States
X-APPLE-STRUCTURED-LOCATION;VALUE=URI;X-ADDRESS=525 Graham Memorial Drive\,
  Lebanon\, Kentucky\, 40033\, Marion County\, United States;X-APPLE-RADIUS
 =100;X-TITLE=Lebanon Aquatic Center:geo:0,0
END:VEVENT
BEGIN:VTIMEZONE
TZID:America/Kentucky/Louisville
X-LIC-LOCATION:America/Kentucky/Louisville
BEGIN:DAYLIGHT
DTSTART:20250309T030000
TZOFFSETFROM:-0500
TZOFFSETTO:-0400
TZNAME:EDT
END:DAYLIGHT
END:VTIMEZONE
END:VCALENDAR