BEGIN:VCALENDAR
VERSION:2.0
PRODID:-//wp-events-plugin.com//7.2.3.1//EN
BEGIN:VEVENT
UID:7869@visitlebanonky.com
DTSTART;TZID=America/Kentucky/Louisville:20250815T180000
DTEND;TZID=America/Kentucky/Louisville:20250815T200000
DTSTAMP:20250811T181108Z
URL:https://visitlebanonky.com/events/basketball-madness/
SUMMARY:Basketball Madness
DESCRIPTION:Meet your 2025 Marion County Middle Lady Knights Basketball Tea
 m and players! It’ll be Marion County Middle Lady Knights Basketball Mad
 ness\, set for Friday\, Aug. 15 from 6 p.m. to 8 p.m. in the Marion County
  Middle School's Ferriell Gymnasium. Head Coach Aaron Brown will move the 
 team through on-court intros\, live practice\, scrimmage and more in this 
 annual tradition that kicks off the season. Admission is $5 (cash) per per
 son\, four and under are free. There’ll also be concessions—pizza\, ch
 ips\, drinks and more. All proceeds from this event benefit the basketball
  program. For more information\, contact the coach at aaron.brown@marion.k
 yschools.us.
ATTACH;FMTTYPE=image/jpeg:https://visitlebanonky.com/wp-content/uploads/20
 25/08/bball-knights.jpg
CATEGORIES:Community
LOCATION:Marion County Middle School\, 1155 Highway 327\, Lebanon\, Kentuck
 y\, 40033\, Marion County\, United States
GEO:37.587073;-85.344251
X-APPLE-STRUCTURED-LOCATION;VALUE=URI;X-ADDRESS=1155 Highway 327\, Lebanon\
 , Kentucky\, 40033\, Marion County\, United States;X-APPLE-RADIUS=100;X-TI
 TLE=Marion County Middle School:geo:37.587073,-85.344251
END:VEVENT
BEGIN:VTIMEZONE
TZID:America/Kentucky/Louisville
X-LIC-LOCATION:America/Kentucky/Louisville
BEGIN:DAYLIGHT
DTSTART:20250309T030000
TZOFFSETFROM:-0500
TZOFFSETTO:-0400
TZNAME:EDT
END:DAYLIGHT
END:VTIMEZONE
END:VCALENDAR