BEGIN:VCALENDAR
VERSION:2.0
PRODID:-//wp-events-plugin.com//7.2.3.1//EN
BEGIN:VEVENT
UID:9184@visitlebanonky.com
DTSTART;TZID=America/Kentucky/Louisville:20260530T110000
DTEND;TZID=America/Kentucky/Louisville:20260530T150000
DTSTAMP:20260410T194050Z
URL:https://visitlebanonky.com/events/beautify-loretto-cruise-in-2/
SUMMARY:Beautify Loretto Cruise-In
DESCRIPTION:You can find Beautify Loretto on Facebook HERE
ATTACH;FMTTYPE=image/jpeg:https://visitlebanonky.com/wp-content/uploads/20
 26/04/cruise-in.jpg
CATEGORIES:Community
LOCATION:Loretto City Park\, School Drive\, Loretto\, KY\, 40037\, Marion C
 ounty\, United States
X-APPLE-STRUCTURED-LOCATION;VALUE=URI;X-ADDRESS=School Drive\, Loretto\, KY
 \, 40037\, Marion County\, United States;X-APPLE-RADIUS=100;X-TITLE=Lorett
 o City Park:geo:0,0
END:VEVENT
BEGIN:VTIMEZONE
TZID:America/Kentucky/Louisville
X-LIC-LOCATION:America/Kentucky/Louisville
BEGIN:DAYLIGHT
DTSTART:20260308T030000
TZOFFSETFROM:-0500
TZOFFSETTO:-0400
TZNAME:EDT
END:DAYLIGHT
END:VTIMEZONE
END:VCALENDAR